BEGIN:VCALENDAR
VERSION:2.0
PRODID:-//ChamberMaster//Event Calendar 2.0//EN
METHOD:PUBLISH
X-PUBLISHED-TTL:P3D
REFRESH-INTERVAL:P3D
CALSCALE:GREGORIAN
BEGIN:VEVENT
DTSTART:20251217T160000Z
DTEND:20251217T170000Z
X-MICROSOFT-CDO-ALLDAYEVENT:FALSE
SUMMARY:Neosho Freeman Rehab Center Ribbon Cutting
DESCRIPTION:Join us for a ribbon cutting celebrating the opening of the Freeman Neosho Rehab Facility!
X-ALT-DESC;FMTTYPE=text/html:Join us for a ribbon cutting celebrating the opening of the Freeman Neosho Rehab Facility!
LOCATION:Freeman Neosho Rehab Center 346 S. Wood St Neosho\, MO 64850
UID:e.2144.18828
SEQUENCE:3
DTSTAMP:20260423T225108Z
URL:https://www.neoshocc.com/events/details/neosho-freeman-rehab-center-ribbon-cutting-18828
END:VEVENT

END:VCALENDAR
