BEGIN:VCALENDAR
VERSION:2.0
PRODID:-//ChamberMaster//Event Calendar 2.0//EN
METHOD:PUBLISH
X-PUBLISHED-TTL:P3D
REFRESH-INTERVAL:P3D
CALSCALE:GREGORIAN
BEGIN:VEVENT
DTSTART:20250501T160000Z
DTEND:20250501T190000Z
X-MICROSOFT-CDO-ALLDAYEVENT:FALSE
SUMMARY:Neosho School District Agricultural Center Ribbon Cutting
DESCRIPTION:You're invited to the official ribbon cutting of the brand-new Neosho School District Agricultural Center!\n\n\n\nLocated near the Neosho Junior High School\, this 30\,000-square-foot facility\, funded through the 2023 no-levy bond issue\, marks a major step forward for our district. It was designed to support hands-on learning and real-world career exploration in a space tailored to meet our students' needs. Each day\, more than 400 students in grades 7-12 will benefit from the opportunities this new center provides. \n\n\n\nPlease join us as we celebrate this exciting new addition to our district!
X-ALT-DESC;FMTTYPE=text/html:<span style="font-family:proxima-nova\,proxima nova\,helvetica neue\,helvetica\,arial\,sans-serif\; font-size:14px">You&#39\;re invited to the official ribbon cutting of the brand-new Neosho School District Agricultural Center!</span><br />\n<br />\n<span style="font-family:proxima-nova\,proxima nova\,helvetica neue\,helvetica\,arial\,sans-serif\; font-size:14px">Located near the Neosho Junior High School\, this 30\,000-square-foot facility\, funded through the 2023 no-levy bond issue\, marks a major step forward for our district. It was designed to support hands-on learning and real-world career exploration in a space tailored to meet our students&#39\; needs. Each day\, more than 400 students in grades 7-12 will benefit from the opportunities this new center provides.&nbsp\;</span><br />\n<br />\n<span style="font-family:proxima-nova\,proxima nova\,helvetica neue\,helvetica\,arial\,sans-serif\; font-size:14px">Please join us as we celebrate this exciting new addition to our district!&nbsp\;</span>
LOCATION:14646 Kodiak Rd\, Neosho (Next to Neosho Junior High School)
UID:e.2144.16393
SEQUENCE:3
DTSTAMP:20260424T104736Z
URL:https://www.neoshocc.com/events/details/neosho-high-school-agricultural-center-ribbon-cutting-16393
END:VEVENT

END:VCALENDAR
