BEGIN:VCALENDAR
VERSION:2.0
PRODID:-//ChamberMaster//Event Calendar 2.0//EN
METHOD:PUBLISH
X-PUBLISHED-TTL:P3D
REFRESH-INTERVAL:P3D
CALSCALE:GREGORIAN
BEGIN:VEVENT
DTSTART:20251112T140000Z
DTEND:20251112T171500Z
X-MICROSOFT-CDO-ALLDAYEVENT:FALSE
SUMMARY:Neosho High School's College & Career Fair!
DESCRIPTION:Neosho High School would like to invite you to participate in our College and Career Fair on Wednesday\, November 12\, 2025. The NHS's College and Career Fair is a free event designed to recruit\, hire\, and provide information to approximately 1\,500 high school students. It is also a great opportunity to help reinforce soft skills and expand the students' awareness of businesses and careers..\n\n\n\nLocation:\n\nLa-Z-Boy End Zone Facility\n\nNeosho High School\n\n511 S. Neosho Blvd\n\nNeosho\, MO 64850  \n\nTime:\n\nSet up 7:00 - 8:00 am\n\nFair 8:00 - 11:15 am\n\nWe will provide a table and 2 chairs \n\n*We cannot provide hospitality as food and drinks are not allowed on the turf. If you bring a drink\, please have a lid. \n\n \n\n\nWe appreciate all you do to support our students at Neosho High School. Please don't hesitate to forward the information to others. If you have any questions\, please do not hesitate to contact me at tautekelly@neoshosd.org or 417-793-7484. \n\nRSVP: Neosho College and Career Fair
X-ALT-DESC;FMTTYPE=text/html:<div style="border: 0px\; font-variant-numeric: inherit\; font-variant-east-asian: inherit\; font-variant-alternates: inherit\; font-variant-position: inherit\; font-variant-emoji: inherit\; font-stretch: inherit\; font-size: 15px\; line-height: inherit\; font-family: Roboto\, &quot\;Helvetica Neue&quot\;\, Helvetica\, Arial\, sans-serif\; font-optical-sizing: inherit\; font-size-adjust: inherit\; font-kerning: inherit\; font-feature-settings: inherit\; font-variation-settings: inherit\; margin: 0px\; padding: 0px\; vertical-align: baseline\; color: rgb(36\, 36\, 36)\;"><span data-olk-copy-source="MessageBody" style="border: 0px\; font-style: inherit\; font-variant: inherit\; font-weight: inherit\; font-stretch: inherit\; font-size: 14.67px\; line-height: inherit\; font-family: Roboto\, Arial\, sans-serif\; font-optical-sizing: inherit\; font-size-adjust: inherit\; font-kerning: inherit\; font-feature-settings: inherit\; font-variation-settings: inherit\; margin: 0px\; padding: 0px\; vertical-align: baseline\; color: rgb(32\, 33\, 36)\;">Neosho High School would like to invite you to participate in our College and Career Fair on&nbsp\;</span><span style="border: 0px\; font-style: inherit\; font-variant: inherit\; font-weight: 700\; font-stretch: inherit\; font-size: 14.67px\; line-height: inherit\; font-family: Roboto\, Arial\, sans-serif\; font-optical-sizing: inherit\; font-size-adjust: inherit\; font-kerning: inherit\; font-feature-settings: inherit\; font-variation-settings: inherit\; margin: 0px\; padding: 0px\; vertical-align: baseline\; color: rgb(32\, 33\, 36)\;">Wednesday\, November 12\, 2025</span><span style="border: 0px\; font-style: inherit\; font-variant: inherit\; font-weight: inherit\; font-stretch: inherit\; font-size: 14.67px\; line-height: inherit\; font-family: Roboto\, Arial\, sans-serif\; font-optical-sizing: inherit\; font-size-adjust: inherit\; font-kerning: inherit\; font-feature-settings: inherit\; font-variation-settings: inherit\; margin: 0px\; padding: 0px\; vertical-align: baseline\; color: rgb(32\, 33\, 36)\;">.&nbsp\;</span><span style="border: 0px\; font-style: inherit\; font-variant: inherit\; font-weight: inherit\; font-stretch: inherit\; font-size: 14.67px\; line-height: inherit\; font-family: Roboto\, Arial\, sans-serif\; font-optical-sizing: inherit\; font-size-adjust: inherit\; font-kerning: inherit\; font-feature-settings: inherit\; font-variation-settings: inherit\; margin: 0px\; padding: 0px\; vertical-align: baseline\; color: rgb(32\, 33\, 36)\;">The NHS&rsquo\;s College and Career Fair is a free event designed to recruit\, hire\, and provide information to approximately 1\,500</span><span style="border: 0px\; font-style: inherit\; font-variant: inherit\; font-weight: inherit\; font-stretch: inherit\; font-size: 14.67px\; line-height: inherit\; font-family: Roboto\, Arial\, sans-serif\; font-optical-sizing: inherit\; font-size-adjust: inherit\; font-kerning: inherit\; font-feature-settings: inherit\; font-variation-settings: inherit\; margin: 0px\; padding: 0px\; vertical-align: baseline\; color: rgb(32\, 33\, 36)\;">&nbsp\;high school students. It is also a great opportunity to help reinforce soft skills and expand the students&#39\; awareness of businesses and careers..</span></div>\n\n<div style="border: 0px\; font-variant-numeric: inherit\; font-variant-east-asian: inherit\; font-variant-alternates: inherit\; font-variant-position: inherit\; font-variant-emoji: inherit\; font-stretch: inherit\; font-size: 15px\; line-height: inherit\; font-family: Roboto\, &quot\;Helvetica Neue&quot\;\, Helvetica\, Arial\, sans-serif\; font-optical-sizing: inherit\; font-size-adjust: inherit\; font-kerning: inherit\; font-feature-settings: inherit\; font-variation-settings: inherit\; margin: 0px\; padding: 0px\; vertical-align: baseline\; color: rgb(36\, 36\, 36)\;">\n<div style="border: 0px\; font-style: inherit\; font-variant: inherit\; font-weight: inherit\; font-stretch: inherit\; font-size: 14.67px\; line-height: inherit\; font-family: Roboto\, Arial\, sans-serif\; font-optical-sizing: inherit\; font-size-adjust: inherit\; font-kerning: inherit\; font-feature-settings: inherit\; font-variation-settings: inherit\; margin: 0px\; padding: 0px\; vertical-align: baseline\; color: rgb(32\, 33\, 36)\;">\n<p dir="ltr" style="font-family: Roboto\, &quot\;Helvetica Neue&quot\;\, Helvetica\, Arial\, sans-serif\; margin-top: 0px\; margin-bottom: 0px\;">Location:</p>\n\n<p dir="ltr" style="font-family: Roboto\, &quot\;Helvetica Neue&quot\;\, Helvetica\, Arial\, sans-serif\; margin-top: 0px\; margin-bottom: 0px\;">La-Z-Boy End Zone Facility<br />\nNeosho High School<br />\n511 S. Neosho Blvd<br />\nNeosho\, MO 64850&nbsp\;&nbsp\;</p>\n\n<p dir="ltr" style="font-family: Roboto\, &quot\;Helvetica Neue&quot\;\, Helvetica\, Arial\, sans-serif\; margin-top: 0px\; margin-bottom: 0px\;">Time:</p>\n\n<p dir="ltr" style="font-family: Roboto\, &quot\;Helvetica Neue&quot\;\, Helvetica\, Arial\, sans-serif\; margin-top: 0px\; margin-bottom: 0px\;">Set up 7:00 - 8:00 am<br />\nFair 8:00 - 11:15 am</p>\n\n<div style="border: 0px\; font-style: inherit\; font-variant: inherit\; font-weight: inherit\; font-stretch: inherit\; line-height: inherit\; font-family: Roboto\, &quot\;Helvetica Neue&quot\;\, Helvetica\, Arial\, sans-serif\; font-optical-sizing: inherit\; font-size-adjust: inherit\; font-kerning: inherit\; font-feature-settings: inherit\; font-variation-settings: inherit\; margin: 0px\; padding: 0px\; vertical-align: baseline\; color: inherit\;">We will provide a table and 2 chairs&nbsp\;</div>\n\n<div style="border: 0px\; font-style: inherit\; font-variant: inherit\; font-weight: inherit\; font-stretch: inherit\; line-height: inherit\; font-family: Roboto\, &quot\;Helvetica Neue&quot\;\, Helvetica\, Arial\, sans-serif\; font-optical-sizing: inherit\; font-size-adjust: inherit\; font-kerning: inherit\; font-feature-settings: inherit\; font-variation-settings: inherit\; margin: 0px\; padding: 0px\; vertical-align: baseline\; color: inherit\;">*We cannot provide hospitality as food and drinks are not allowed on the turf. If you bring a drink\, please have a lid.&nbsp\;</div>\n\n<p style="font-family: Roboto\, &quot\;Helvetica Neue&quot\;\, Helvetica\, Arial\, sans-serif\; margin-top: 0px\; margin-bottom: 0px\;">&nbsp\;</p>\n</div>\n\n<p dir="ltr" style="color: rgb(32\, 33\, 36)\; font-size: 14.67px\; font-family: Roboto\, Arial\, sans-serif\; margin-top: 0px\; margin-bottom: 0px\;">We appreciate all you do to support our students at Neosho High School. Please don&#39\;t hesitate to forward the information to others. If you have any questions\, please do not hesitate to contact me at&nbsp\;<a data-linkindex="6" href="mailto:tautekelly@neoshosd.org" style="border: 0px\; font-style: inherit\; font-variant: inherit\; font-weight: inherit\; font-stretch: inherit\; font-size: inherit\; line-height: inherit\; font-family: Roboto\, &quot\;Helvetica Neue&quot\;\, Helvetica\, Arial\, sans-serif\; font-optical-sizing: inherit\; font-size-adjust: inherit\; font-kerning: inherit\; font-feature-settings: inherit\; font-variation-settings: inherit\; margin: 0px\; padding: 0px\; vertical-align: baseline\;" title="mailto:tautekelly@neoshosd.org">tautekelly@neoshosd.org</a>&nbsp\;or 417-793-7484.&nbsp\;</p>\n\n<p style="color: rgb(32\, 33\, 36)\; font-family: Roboto\, Arial\, sans-serif\; margin-top: 0px\; margin-bottom: 0px\;"><b style="font-family: Roboto\, &quot\;Helvetica Neue&quot\;\, Helvetica\, Arial\, sans-serif\;"><font size="4">RSVP:&nbsp\;<span style="border: 0px\; font-style: inherit\; font-variant: inherit\; font-weight: inherit\; font-stretch: inherit\; font-size: inherit\; line-height: inherit\; font-family: Arial\, Helvetica\, sans-serif\; font-optical-sizing: inherit\; font-size-adjust: inherit\; font-kerning: inherit\; font-feature-settings: inherit\; font-variation-settings: inherit\; margin: 0px\; padding: 0px\; vertical-align: baseline\; color: rgb(34\, 34\, 34)\;"><a data-auth="NotApplicable" data-linkindex="7" href="https://docs.google.com/forms/d/e/1FAIpQLSfSU6lvI9tb68kTE_ydMadBldEP_gFf_xsd3lpXD4zMcLcgkQ/viewform?usp=sharing&amp\;ouid=109754689432330909984" style="border: 0px\; font-style: inherit\; font-variant: inherit\; font-weight: inherit\; font-stretch: inherit\; font-size: inherit\; line-height: inherit\; font-family: Roboto\, &quot\;Helvetica Neue&quot\;\, Helvetica\, Arial\, sans-serif\; font-optical-sizing: inherit\; font-size-adjust: inherit\; font-kerning: inherit\; font-feature-settings: inherit\; font-variation-settings: inherit\; margin: 0px\; padding: 0px\; vertical-align: baseline\;" title="https://docs.google.com/forms/d/e/1FAIpQLSfSU6lvI9tb68kTE_ydMadBldEP_gFf_xsd3lpXD4zMcLcgkQ/viewform?usp=sharing&amp\;ouid=109754689432330909984">Neosho College and Career Fair</a></span></font></b></p>\n</div>\n
LOCATION:La-Z-Boy End Zone Facility Neosho High School 511 S. Neosho Blvd Neosho\, MO 64850
UID:e.2144.18474
SEQUENCE:3
DTSTAMP:20260424T003209Z
URL:https://www.neoshocc.com/events/details/neosho-high-school-s-college-career-fair-18474
END:VEVENT

END:VCALENDAR
