BEGIN:VCALENDAR
VERSION:2.0
PRODID:-//ChamberMaster//Event Calendar 2.0//EN
METHOD:PUBLISH
X-PUBLISHED-TTL:P3D
REFRESH-INTERVAL:P3D
CALSCALE:GREGORIAN
BEGIN:VEVENT
DTSTART:20241124T010000Z
DTEND:20241124T030000Z
X-MICROSOFT-CDO-ALLDAYEVENT:FALSE
SUMMARY:Neosho High School’s production of Disney Beauty and the Beast\, the Broadway musical
DESCRIPTION:Neosho High School's production of Disney Beauty and the Beast\, the Broadway musical\n\n \n\nNOV. 22 - 24\, 2024\n\n \n\nFriday & Saturday at 7 p.m.\, Sunday at 2 p.m.\n\nAdults - $15 | Students - $10  |   Under 12 - $8\n \n\nClick here to Purchase Tickets Online\n \n\nFREEMAN HEALTH SYSTEM PERFORMING ARTS CENTER\n\n511 S. Neosho Boulevard\, Neosho\, MO 64850\n\n\n?\n\nDISNEY THEATRICAL PRODUCTIONS\n\nIncidental Music and New Vocal Arrangements by Michael Kosarin Vocals Originally Arranged by David Friedman\n\nDance Music Arrangements by Glen Kelly\n\nOrchestrations by Danny Troob
X-ALT-DESC;FMTTYPE=text/html:<div style="text-align:center"><span style="font-size:18px">Neosho High School&rsquo\;s production of Disney Beauty and the Beast\, the Broadway musical</span></div>\n\n<div style="text-align:center"><span style="font-size:18px">&nbsp\;</span></div>\n\n<div style="text-align:center"><span style="font-size:32px"><strong>NOV. 22 - 24\, 2024</strong></span></div>\n\n<div style="text-align:center"><span style="font-size:18px">&nbsp\;</span></div>\n\n<div style="text-align:center"><span style="font-size:18px">Friday &amp\; Saturday at 7 p.m.\, Sunday at 2 p.m.</span></div>\n\n<div style="text-align:center"><span style="font-size:18px">Adults - $15 | Students - $10 &nbsp\;| &nbsp\; Under 12 - $8</span></div>\n&nbsp\;\n\n<div style="text-align:center"><a href="https://neoshohs.booktix.com/" style="box-sizing: border-box\; background-color: rgba(0\, 0\, 0\, 0)\; color: rgb(198\, 178\, 86)\; cursor: pointer\; font-weight: 600\;" target="_blank"><span style="font-size:28px"><strong>Click here to Purchase Tickets Online</strong></span></a></div>\n&nbsp\;\n\n<div style="text-align:center"><span style="font-size:18px"><strong>FREEMAN HEALTH SYSTEM PERFORMING ARTS CENTER</strong></span></div>\n\n<div style="text-align:center"><span style="font-size:18px">511 S. Neosho Boulevard\, Neosho\, MO 64850</span></div>\n<br />\n<span style="font-family:proxima-nova\,proxima nova\,helvetica neue\,helvetica\,arial\,sans-serif\; font-size:14px">?</span>\n\n<div style="text-align:center"><span style="font-size:12px">DISNEY THEATRICAL PRODUCTIONS</span></div>\n\n<div style="text-align:center"><span style="font-size:12px">Incidental Music and New Vocal Arrangements by Michael Kosarin Vocals Originally Arranged by David Friedman</span></div>\n\n<div style="text-align:center"><span style="font-size:12px">Dance Music Arrangements by Glen Kelly</span></div>\n\n<div style="text-align:center"><span style="font-size:12px">Orchestrations by Danny Troob</span></div>\n
LOCATION:FREEMAN HEALTH SYSTEM PERFORMING ARTS CENTER 511 S. Neosho Boulevard\, Neosho\, MO 64850
UID:e.2144.13923
SEQUENCE:3
DTSTAMP:20260424T174004Z
URL:https://www.neoshocc.com/events/details/neosho-high-school-s-production-of-disney-beauty-and-the-beast-the-broadway-musical-11-23-2024-13923
END:VEVENT

END:VCALENDAR
