BEGIN:VCALENDAR
VERSION:2.0
PRODID:-//ChamberMaster//Event Calendar 2.0//EN
METHOD:PUBLISH
X-PUBLISHED-TTL:P3D
REFRESH-INTERVAL:P3D
CALSCALE:GREGORIAN
BEGIN:VEVENT
DTSTART:20241221T160000Z
DTEND:20241221T200000Z
X-MICROSOFT-CDO-ALLDAYEVENT:FALSE
SUMMARY:Neosho Holiday Bazaar
DESCRIPTION:Finish your holiday shopping at the Neosho Holiday Bazaar!\n\nExplore a unique selection of ceramics\, handcrafted embroidery\, one-of-a-kind artwork\, delicious baked goods\, jewelry\, coffee\, food trucks\, and much more!\n\nPlus\, capture the moment with a family portrait by our on-site photographer.\n\nJoin us from 10 AM to 2 PM at The Conservatory\, just off the square in Downtown Neosho.\n\nAdmission to this event is FREE\, but is being held to benefit the Neosho High School Art Department. There will be a student-run booth selling handmade student artwork and we encourage everyone to contribute if they are able\, as all proceeds will support Wildcat Art programs!
X-ALT-DESC;FMTTYPE=text/html:<div background-color:="" class="xdj266r x11i5rnm xat24cr x1mh8g0r x1vvkbs" color:="" font-size:="" segoe="" style="margin: 0px\; overflow-wrap: break-word\; font-family: " ui="">Finish your holiday shopping at the Neosho Holiday Bazaar!</div>\n\n<div background-color:="" class="x11i5rnm xat24cr x1mh8g0r x1vvkbs xtlvy1s" color:="" font-size:="" segoe="" style="margin: 0.5em 0px 0px\; overflow-wrap: break-word\; font-family: " ui="">Explore a unique selection of ceramics\, handcrafted embroidery\, one-of-a-kind artwork\, delicious baked goods\, jewelry\, coffee\, food trucks\, and much more!</div>\n\n<div background-color:="" class="x11i5rnm xat24cr x1mh8g0r x1vvkbs xtlvy1s" color:="" font-size:="" segoe="" style="margin: 0.5em 0px 0px\; overflow-wrap: break-word\; font-family: " ui="">Plus\, capture the moment with a family portrait by our on-site photographer.</div>\n\n<div background-color:="" class="x11i5rnm xat24cr x1mh8g0r x1vvkbs xtlvy1s" color:="" font-size:="" segoe="" style="margin: 0.5em 0px 0px\; overflow-wrap: break-word\; font-family: " ui="">Join us from 10 AM to 2 PM at The Conservatory\, just off the square in Downtown Neosho.</div>\n\n<div background-color:="" class="x11i5rnm xat24cr x1mh8g0r x1vvkbs xtlvy1s" color:="" font-size:="" segoe="" style="margin: 0.5em 0px 0px\; overflow-wrap: break-word\; font-family: " ui="">Admission to this event is FREE\, but is being held to benefit the Neosho High School Art Department. There will be a student-run booth selling handmade student artwork and we encourage everyone to contribute if they are able\, as all proceeds will support Wildcat Art programs!&nbsp\;</div>\n
LOCATION:201 N Wood St\, Neosho\, MO 64850
UID:e.2144.14165
SEQUENCE:3
DTSTAMP:20260424T161445Z
URL:https://www.neoshocc.com/events/details/neosho-holiday-bazaar-14165
END:VEVENT

END:VCALENDAR
