BEGIN:VCALENDAR
VERSION:2.0
PRODID:-//ChamberMaster//Event Calendar 2.0//EN
METHOD:PUBLISH
X-PUBLISHED-TTL:P3D
REFRESH-INTERVAL:P3D
CALSCALE:GREGORIAN
BEGIN:VEVENT
DTSTART:20251004T120000Z
DTEND:20251004T150000Z
X-MICROSOFT-CDO-ALLDAYEVENT:FALSE
SUMMARY:Neosho Lions Club Pancake Feed
DESCRIPTION:Join the Neosho Lions Club for a delicious Pancake Feed on Saturday\, October 4\, 2024\, at the Neosho Civic Center! From 7:00 10:00 am\, enjoy biscuits and sausage gravy and/or pancakes for just $5. A tasty breakfast for a great cause!
X-ALT-DESC;FMTTYPE=text/html:Join the Neosho Lions Club for a delicious Pancake Feed on Saturday\, October 4\, 2024\, at the Neosho Civic Center! From 7:00&ndash\;10:00 am\, enjoy biscuits and sausage gravy and/or pancakes for just $5. A tasty breakfast for a great cause!
LOCATION:Neosho Civic Center
UID:e.2144.18498
SEQUENCE:3
DTSTAMP:20260424T015744Z
URL:https://www.neoshocc.com/events/details/neosho-lions-club-pancake-feed-18498
END:VEVENT

END:VCALENDAR
