BEGIN:VCALENDAR
VERSION:2.0
PRODID:-//ChamberMaster//Event Calendar 2.0//EN
METHOD:PUBLISH
X-PUBLISHED-TTL:P3D
REFRESH-INTERVAL:P3D
CALSCALE:GREGORIAN
BEGIN:VEVENT
DTSTART:20230418T230000Z
DTEND:20230419T000000Z
X-MICROSOFT-CDO-ALLDAYEVENT:FALSE
SUMMARY:Neosho School District Early Childhood STEM Night
DESCRIPTION:Interest\, incoming and current parents and guardians of children ages 3-5 in the Parents As Teachers\, Pre-K or KinderCat programs are encouraged to attend the Neosho School District Early Childhood STEM Night! \n\n\n\nSTEM is an acronym that stands for science\, technology\, engineering and mathematics. STEM is implemented in early childhood education through the encouragement of curious and creative play. Families will have the opportunity to experience this and learn more about the early childhood programs during STEM night though interactive stations
X-ALT-DESC;FMTTYPE=text/html:Interest\, incoming and current parents and guardians of children ages 3-5 in the Parents As Teachers\, Pre-K or KinderCat programs are encouraged to attend the Neosho School District Early Childhood STEM Night!&nbsp\;<br />\n<br />\nSTEM is an acronym that stands for science\,&nbsp\;technology\, engineering and mathematics. STEM is implemented in early childhood education through the encouragement of curious and creative play. Families will have the opportunity to experience this and learn more about the early childhood programs during STEM night though interactive stations
LOCATION:Benton Elementary FEMA Community Safe Room 1120 Carl Sweeney Parkway Road Neosho\, MO 64850
UID:e.2144.9764
SEQUENCE:3
DTSTAMP:20260425T214520Z
URL:https://www.neoshocc.com/events/details/neosho-school-district-early-childhood-stem-night-9764
END:VEVENT

END:VCALENDAR
