BEGIN:VCALENDAR
VERSION:2.0
PRODID:-//ChamberMaster//Event Calendar 2.0//EN
METHOD:PUBLISH
X-PUBLISHED-TTL:P3D
REFRESH-INTERVAL:P3D
CALSCALE:GREGORIAN
BEGIN:VEVENT
DTSTART:20251102T180000Z
DTEND:20251102T210000Z
X-MICROSOFT-CDO-ALLDAYEVENT:FALSE
SUMMARY:Neosho Wildcats Car Show
DESCRIPTION:Neosho Wildcats Car Show\n\nCome have fun and support Neosho Athletics. The event will feature food trucks\, prizes\, live music and all the cars in the show.\n\nEnter into the following classes:\n\n\n	Classic\n	Trucks\n	Jeep 4x4\n	Students\n	General\n\n\n\nClick on the link to register your car: https://forms.gle/itfnmwrmTzRETn1M8
X-ALT-DESC;FMTTYPE=text/html:<h1>Neosho Wildcats Car Show</h1>\n\n<p>Come have fun and support Neosho Athletics. The event will feature food trucks\, prizes\, live music and all the cars in the show.</p>\n\n<p>Enter into the following classes:</p>\n\n<ul>\n	<li>Classic</li>\n	<li>Trucks</li>\n	<li>Jeep 4x4</li>\n	<li>Students</li>\n	<li>General</li>\n</ul>\n<br />\nClick on the link to register your car:&nbsp\;https://forms.gle/itfnmwrmTzRETn1M8
LOCATION:Neosho High School 511 S Neosho Blvd Neosho\, MO 64850
UID:e.2144.18522
SEQUENCE:3
DTSTAMP:20260424T002945Z
URL:https://www.neoshocc.com/events/details/neosho-wildcats-car-show-18522
END:VEVENT

END:VCALENDAR
