BEGIN:VCALENDAR
VERSION:2.0
PRODID:-//ChamberMaster//Event Calendar 2.0//EN
METHOD:PUBLISH
X-PUBLISHED-TTL:P3D
REFRESH-INTERVAL:P3D
CALSCALE:GREGORIAN
BEGIN:VEVENT
DTSTART:20241112T160000Z
DTEND:20241112T170000Z
X-MICROSOFT-CDO-ALLDAYEVENT:FALSE
SUMMARY:Newton County Retired School Personnel Association
DESCRIPTION:If you are or plan on being a retired teacher and/or school personnel\, plan now to attend the next meeting of the Newton County Retired School Personnel Association. The meeting will be Tuesday\, November 12 at 10:00 am. Location is the Newton County Library. Our presentation will be on Safely Aging in Place. For more information\, contact Tawni Boman-Meek\, President-Elect\, at tawniboman@gmail.com.
X-ALT-DESC;FMTTYPE=text/html:If you are or plan on being a retired teacher and/or school personnel\, plan now to attend the next meeting of the&nbsp\;Newton County Retired School Personnel Association. The meeting will be Tuesday\, November 12 at 10:00 am. Location is the Newton County Library. Our presentation will be on Safely Aging in Place. For more information\, contact Tawni Boman-Meek\, President-Elect\, at <a href="mailto:tawniboman@gmail.com">tawniboman@gmail.com</a>.&nbsp\;
LOCATION:
UID:e.2144.13921
SEQUENCE:3
DTSTAMP:20260424T173715Z
URL:https://www.neoshocc.com/events/details/newton-county-retired-school-personnel-association-13921
END:VEVENT

END:VCALENDAR
