BEGIN:VCALENDAR
VERSION:2.0
PRODID:-//ChamberMaster//Event Calendar 2.0//EN
METHOD:PUBLISH
X-PUBLISHED-TTL:P3D
REFRESH-INTERVAL:P3D
CALSCALE:GREGORIAN
BEGIN:VEVENT
DTSTART;VALUE=DATE:20241206
DTEND;VALUE=DATE:20241209
TRANSP:TRANSPARENT
X-MICROSOFT-CDO-ALLDAYEVENT:TRUE
SUMMARY:'Night Mother - Theatre Performance
DESCRIPTION:Crowder College Theatre presents 'Night Mother\, a 1983 Pulitzer Prize Winner for Drama by Marsha Norman\, December 6 - 7 (7pm nightly) and again December 8 (2pm) in the Elsie Plater Community Center (601 Laclede Avenue\, Neosho\, MO).\n\nThe pressures of time and grief fuel this emotionally-driven story of sorrow before it strikes. A dramatic storyline captivates any audience as characters experience problems many people face everyday. This production is sure to pull at every heartstring.\n\n*Trigger Warning: Suicide. Rated PG-13\n\nJoin us for a panel discussion led by a group of mental health professionals immediately following the show.
X-ALT-DESC;FMTTYPE=text/html:<p><span style="background-color:transparent\; color:rgb(23\, 43\, 77)\; font-family:lato\,sans-serif\; font-size:12pt">Crowder College Theatre presents &#39\;Night Mother\, a 1983 Pulitzer Prize Winner for Drama by Marsha Norman\, December 6 - 7 (7pm nightly) and again December 8 (2pm) in the Elsie Plater Community Center (601 Laclede Avenue\, Neosho\, MO).</span></p>\n\n<p><span style="background-color:transparent\; color:rgb(23\, 43\, 77)\; font-family:lato\,sans-serif\; font-size:12pt">The pressures of time and grief fuel this emotionally-driven story of sorrow before it strikes. A dramatic storyline captivates any audience as characters experience problems many people face everyday. This production is sure to&nbsp\;</span><span style="background-color:transparent\; color:rgb(23\, 43\, 77)\; font-family:lato\,sans-serif\; font-size:12pt">pull at every heartstring.</span></p>\n\n<p><span style="background-color:transparent\; color:rgb(23\, 43\, 77)\; font-family:lato\,sans-serif\; font-size:12pt">*Trigger Warning: Suicide. Rated PG-13</span></p>\n\n<p><span style="background-color:transparent\; color:rgb(23\, 43\, 77)\; font-family:lato\,sans-serif\; font-size:12pt">Join us for a panel discussion led by a group of mental health professionals immediately following the show.</span></p>\n\n<div>&nbsp\;</div>\n
LOCATION:Elsie Plaster Community Center\, on the Crowder College Neosho campus\, located at 601 Laclede Avenue\, Neosho\, MO.
UID:e.2144.13925
SEQUENCE:3
DTSTAMP:20260424T161012Z
URL:https://www.neoshocc.com/events/details/night-mother-theatre-performance-13925
END:VEVENT

END:VCALENDAR
