BEGIN:VCALENDAR
VERSION:2.0
PRODID:-//ChamberMaster//Event Calendar 2.0//EN
METHOD:PUBLISH
X-PUBLISHED-TTL:P3D
REFRESH-INTERVAL:P3D
CALSCALE:GREGORIAN
BEGIN:VEVENT
DTSTART:20230204T160000Z
DTEND:20230204T210000Z
X-MICROSOFT-CDO-ALLDAYEVENT:FALSE
SUMMARY:NNCL Presents: Kindred Connections
DESCRIPTION:Volunteers from Genealogy Friends of the Library and a library staff member will be available each 1st Saturday of the month to assist in the Genealogy Room at Neosho-Newton County Library. They can help get you started researching your family ancestry or get over a hump if you're stuck. The NNCL has free access to Ancestry.com and other databases for researching family history. Microfilm and print resources are available also. Come and go at your leisure!
X-ALT-DESC;FMTTYPE=text/html:Volunteers from&nbsp\;Genealogy Friends of the Library&nbsp\;and a library staff member will be available each 1st Saturday of the month to assist in the Genealogy Room at Neosho-Newton County Library. They can help get you started researching your family ancestry or get over a hump if you&#39\;re stuck. The NNCL has free access to Ancestry.com and other databases for researching family history. Microfilm and print resources are available also. Come and go at your leisure!
LOCATION:Neosho-Newton County Library
UID:e.2144.2983
SEQUENCE:3
DTSTAMP:20260426T004105Z
URL:https://www.neoshocc.com/events/details/nncl-presents-kindred-connections-02-04-2023-2983
END:VEVENT

END:VCALENDAR
