BEGIN:VCALENDAR
VERSION:2.0
PRODID:-//ChamberMaster//Event Calendar 2.0//EN
METHOD:PUBLISH
X-PUBLISHED-TTL:P3D
REFRESH-INTERVAL:P3D
CALSCALE:GREGORIAN
BEGIN:VEVENT
DTSTART:20240921T230000Z
DTEND:20240922T020000Z
X-MICROSOFT-CDO-ALLDAYEVENT:FALSE
SUMMARY:Oktober Fest Karaoke At Eastside Social
DESCRIPTION:Kicking Off Oktoberfest in Neosho! ????\n\nGet ready to raise your steins and join the Neosho Downtown Merchants for a festive Oktoberfest celebration this September! From thrilling stein-holding contests to adorable weenie dog races\, and even karaoke at Eastside Social\, this event has something for everyone. We're excited to be part of another Sip & Stroll event\, where you can enjoy great drinks\, tasty bites\, and unforgettable fun. Mark your calendars and get ready for a fantastic day in downtown Neosho!
X-ALT-DESC;FMTTYPE=text/html:<p><strong>Kicking Off Oktoberfest in Neosho! ????</strong></p>\n\n<p>Get ready to raise your steins and join the Neosho Downtown Merchants for a festive Oktoberfest celebration this September! From thrilling stein-holding contests to adorable weenie dog races\, and even karaoke at Eastside Social\, this event has something for everyone. We&rsquo\;re excited to be part of another Sip &amp\; Stroll event\, where you can enjoy great drinks\, tasty bites\, and unforgettable fun. Mark your calendars and get ready for a fantastic day in downtown Neosho!</p>\n
LOCATION:113 S Washington St Neosho\, MO
UID:e.2144.13054
SEQUENCE:3
DTSTAMP:20260424T215942Z
URL:https://www.neoshocc.com/events/details/oktober-fest-karaoke-at-eastside-social-13054
END:VEVENT

END:VCALENDAR
