BEGIN:VCALENDAR
VERSION:2.0
PRODID:-//ChamberMaster//Event Calendar 2.0//EN
METHOD:PUBLISH
X-PUBLISHED-TTL:P3D
REFRESH-INTERVAL:P3D
CALSCALE:GREGORIAN
BEGIN:VEVENT
DTSTART:20251206T150000Z
DTEND:20251206T220000Z
X-MICROSOFT-CDO-ALLDAYEVENT:FALSE
SUMMARY:Old Cedar Mill Christmas Shoppe
DESCRIPTION:Time to set this date for a fun time to see some wonderful crafts\, art\, and unique gifts for the Christmas season. Also\, the perfect time the claim your spot as a vendor of your handcrafted wares. Contact us at The Mill 417-389-0265 to discuss your product.
X-ALT-DESC;FMTTYPE=text/html:<span background-color:="" font-size:="" segoe="" ui="">Time to set this date for a fun time to see some wonderful crafts\, art\, and unique gifts for the Christmas season. Also\, the perfect time the claim your spot as a vendor of your handcrafted wares. Contact us at The Mill 417-389-0265 to discuss your product.</span>
LOCATION:17346 Kentucky Rd Neosho\, Mo.
UID:e.2144.18823
SEQUENCE:3
DTSTAMP:20260423T224550Z
URL:https://www.neoshocc.com/events/details/old-cedar-mill-christmas-shoppe-18823
END:VEVENT

END:VCALENDAR
