BEGIN:VCALENDAR
VERSION:2.0
PRODID:-//ChamberMaster//Event Calendar 2.0//EN
METHOD:PUBLISH
X-PUBLISHED-TTL:P3D
REFRESH-INTERVAL:P3D
CALSCALE:GREGORIAN
BEGIN:VEVENT
DTSTART;VALUE=DATE:20250407
DTEND;VALUE=DATE:20250408
TRANSP:TRANSPARENT
X-MICROSOFT-CDO-ALLDAYEVENT:TRUE
SUMMARY:On -Site Hiring Event
DESCRIPTION:Looking for a great career opportunity? Nutra Blend in Neosho\, Missouri\, is hosting an On-Site Hiring Event on April 7th and 8th from 8:00 AM to 5:00 PM for production and warehouse positions!\n\nWhat to Expect:\n\n\n	\n	On-site interviews   meet our hiring team and take the next step toward your future!\n	\n	\n	Immediate openings for 1st\, 2nd\, and 3rd shift production and warehouse roles.\n	\n	\n	Competitive pay: $20.20 per hour + shift differential.\n	\n\n\nRequirements:\n\n\n	\n	Must be 18 years or older\n	\n	\n	1+ year of work experience in any industry\n	\n	\n	Basic computer and math skills\n	\n	\n	Ability to read\, write\, and follow instructions in English\n	\n	\n	Willingness to learn\, problem-solve\, and troubleshoot\n	\n	\n	Strong collaboration and communication skills\n	\n\n\nCome prepared\, bring your resume\, and start your journey with Nutra Blend! We look forward to meeting you! ??\n\n Location: Nutra Blend- 3200 2nd Steet\, Neosho\, MO\n\n Date: April 7-8\n\nTime: 8:00 AM   5:00 PM
X-ALT-DESC;FMTTYPE=text/html:<p>Looking for a great career opportunity? Nutra Blend in Neosho\, Missouri\, is hosting an <strong>On-Site Hiring Event</strong>&nbsp\;on <strong>April 7th and 8th from 8:00 AM to 5:00 PM</strong> for <strong>production and warehouse positions</strong>!</p>\n\n<p><strong>What to Expect:</strong></p>\n\n<ul>\n	<li>\n	<p><strong>On-site interviews</strong> &ndash\; meet our hiring team and take the next step toward your future!</p>\n	</li>\n	<li>\n	<p>Immediate openings for <strong>1st\, 2nd\, and 3rd shift</strong> production and warehouse roles.</p>\n	</li>\n	<li>\n	<p>Competitive pay: <strong>$20.20 per hour + shift differential</strong>.</p>\n	</li>\n</ul>\n\n<p><strong>Requirements:</strong></p>\n\n<ul>\n	<li>\n	<p>Must be <strong>18 years or older</strong></p>\n	</li>\n	<li>\n	<p><strong>1+ year of work experience</strong> in any industry</p>\n	</li>\n	<li>\n	<p><strong>Basic computer and math skills</strong></p>\n	</li>\n	<li>\n	<p>Ability to <strong>read\, write\, and follow instructions in English</strong></p>\n	</li>\n	<li>\n	<p>Willingness to <strong>learn\, problem-solve\, and troubleshoot</strong></p>\n	</li>\n	<li>\n	<p>Strong <strong>collaboration and communication skills</strong></p>\n	</li>\n</ul>\n\n<p>Come prepared\, bring your resume\, and start your journey with Nutra Blend! We look forward to meeting you! ??</p>\n\n<p>&nbsp\;<strong>Location:</strong> Nutra Blend- 3200 2nd Steet\, Neosho\, MO<br />\n&nbsp\;<strong>Date:</strong> April 7-8<br />\n<strong>Time:</strong> 8:00 AM &ndash\; 5:00 PM</p>\n
LOCATION:Nutra Blend Location at 3200 2nd Street\, Neosho\, Missouri
UID:e.2144.16409
SEQUENCE:3
DTSTAMP:20260424T115625Z
URL:https://www.neoshocc.com/events/details/on-site-hiring-event-16409
END:VEVENT

END:VCALENDAR
