BEGIN:VCALENDAR
VERSION:2.0
PRODID:-//ChamberMaster//Event Calendar 2.0//EN
METHOD:PUBLISH
X-PUBLISHED-TTL:P3D
REFRESH-INTERVAL:P3D
CALSCALE:GREGORIAN
BEGIN:VEVENT
DTSTART:20250627T210000Z
DTEND:20250627T220000Z
X-MICROSOFT-CDO-ALLDAYEVENT:FALSE
SUMMARY:One year anniversary celebration for Bedrock Bookkeeping!
DESCRIPTION:Join us to celebrate Bedrock Bookkeeping's One year anniversary and a new location!
X-ALT-DESC;FMTTYPE=text/html:Join us to celebrate Bedrock Bookkeeping&#39\;s One year anniversary and a new location!
LOCATION:
UID:e.2144.16653
SEQUENCE:3
DTSTAMP:20260424T073744Z
URL:https://www.neoshocc.com/events/details/one-year-anniversary-celebration-for-bedrock-bookkeeping-16653
END:VEVENT

END:VCALENDAR
