BEGIN:VCALENDAR
VERSION:2.0
PRODID:-//ChamberMaster//Event Calendar 2.0//EN
METHOD:PUBLISH
X-PUBLISHED-TTL:P3D
REFRESH-INTERVAL:P3D
CALSCALE:GREGORIAN
BEGIN:VEVENT
DTSTART:20230123T230000Z
DTEND:20230125T003000Z
X-MICROSOFT-CDO-ALLDAYEVENT:FALSE
SUMMARY:Open Call for Auditions! Crowder College Theatre presents The Many Disguises of Robin Hood
DESCRIPTION:Crowder College Theatre will host auditions (actors 7+) for The Many Disguises of Robin Hood January 23 - 24 5:00pm - 6:30pm at Elsie Plaster Community Center Room 124 (Crowder College\, 601 Laclede Ave.\, Neosho\, MO). Actors will cold read and improvise.\n\n\n\nBy: Brian Guehring\n\nDirected By: NaTasha O'Brien-Davies\n\nShow Dates: March 24 - 25\, 2023\n\nRated: G
X-ALT-DESC;FMTTYPE=text/html:Crowder College Theatre will host auditions (actors 7+) for <em>The Many Disguises of Robin Hood</em> January 23 - 24 5:00pm - 6:30pm at Elsie Plaster Community Center Room 124 (Crowder College\, 601 Laclede Ave.\, Neosho\, MO).&nbsp\;Actors will cold read and improvise.<br />\n<br />\nBy: Brian Guehring<br />\nDirected By: NaTasha O&rsquo\;Brien-Davies<br />\nShow Dates: March 24 - 25\, 2023<br />\nRated: G
LOCATION:Elsie Plaster Community Center Room 124 (Crowder College\, 601 Laclede Ave.\, Neosho\, MO)
UID:e.2144.9054
SEQUENCE:3
DTSTAMP:20260426T021726Z
URL:https://www.neoshocc.com/events/details/open-call-for-auditions-crowder-college-theatre-presents-the-many-disguises-of-robin-hood-01-23-2023-9054
END:VEVENT

END:VCALENDAR
