BEGIN:VCALENDAR
VERSION:2.0
PRODID:-//ChamberMaster//Event Calendar 2.0//EN
METHOD:PUBLISH
X-PUBLISHED-TTL:P3D
REFRESH-INTERVAL:P3D
CALSCALE:GREGORIAN
BEGIN:VEVENT
DTSTART:20230123T180000Z
DTEND:20230124T180000Z
X-MICROSOFT-CDO-ALLDAYEVENT:FALSE
SUMMARY:Open Call for Auditions! Crowder College Theatre presents The Many Disguises of Robin Hood
DESCRIPTION:
X-ALT-DESC;FMTTYPE=text/html:
LOCATION:
UID:e.2144.9053
SEQUENCE:3
DTSTAMP:20260426T021727Z
URL:https://www.neoshocc.com/events/details/open-call-for-auditions-crowder-college-theatre-presents-the-many-disguises-of-robin-hood-9053
END:VEVENT

END:VCALENDAR
