BEGIN:VCALENDAR
VERSION:2.0
PRODID:-//ChamberMaster//Event Calendar 2.0//EN
METHOD:PUBLISH
X-PUBLISHED-TTL:P3D
REFRESH-INTERVAL:P3D
CALSCALE:GREGORIAN
BEGIN:VEVENT
DTSTART;VALUE=DATE:20250716
DTEND;VALUE=DATE:20250717
TRANSP:TRANSPARENT
X-MICROSOFT-CDO-ALLDAYEVENT:TRUE
SUMMARY:Open Mic Night!
DESCRIPTION:It''s Open Mic Night!  Every Wednesday at 7pm.  It's as simple as that.  Just get on the Big O stage and show us what ya got!  Happy Hour all evening with $1 off domestic and well drinks!
X-ALT-DESC;FMTTYPE=text/html:It&#39\;&#39\;s Open Mic Night!&nbsp\; Every Wednesday at 7pm.&nbsp\; It&#39\;s as simple as that.&nbsp\; Just get on the Big O stage and show us what ya got!&nbsp\; Happy Hour all evening with $1 off domestic and well drinks!
LOCATION:Osage Spring 200 E Spring Street Neosho\, MO 64850
UID:e.2144.17115
SEQUENCE:3
DTSTAMP:20260424T073833Z
URL:https://www.neoshocc.com/events/details/open-mic-night-07-16-2025-17115
END:VEVENT

END:VCALENDAR
