BEGIN:VCALENDAR
VERSION:2.0
PRODID:-//ChamberMaster//Event Calendar 2.0//EN
METHOD:PUBLISH
X-PUBLISHED-TTL:P3D
REFRESH-INTERVAL:P3D
CALSCALE:GREGORIAN
BEGIN:VEVENT
DTSTART:20240802T220000Z
DTEND:20240803T030000Z
X-MICROSOFT-CDO-ALLDAYEVENT:FALSE
SUMMARY:Pathways to Prevention - Sip and Support Soiree
DESCRIPTION:Hey there!  We're super excited to invite you to Family Advocacy Solutions' very first fundraising event! It's going to be an awesome evening filled with fun and excitement for everyone! Come hang out\, grab some tasty treats from our amazing food trucks\, play games\, get a cool new look with some permanent jewelry\, and groove to live music while sipping on Myrtle's distilled spirits. Don't forget about the 50/50 raffle\, a chance for a photo op with Henrietta Hippo\, and our silent auctions! Bring your friends\, family\, and your fun-loving spirit! Can't wait to see you there!
X-ALT-DESC;FMTTYPE=text/html:<span style="font-family:tahoma">Hey there!&nbsp\; We&#39\;re super excited to invite you to Family Advocacy Solutions&#39\; very first fundraising event! It&#39\;s going to be an awesome evening filled with fun and excitement for everyone! Come hang out\, grab some tasty treats from our amazing food trucks\, play games\, get a cool new look with some permanent jewelry\, and groove to live music while sipping on Myrtle&#39\;s distilled spirits. Don&#39\;t forget about the 50/50 raffle\, a chance for a photo op with Henrietta Hippo\, and our silent auctions! Bring your friends\, family\, and your fun-loving spirit! Can&#39\;t wait to see you there!</span>
LOCATION:
UID:e.2144.12189
SEQUENCE:3
DTSTAMP:20260424T215454Z
URL:https://www.neoshocc.com/events/details/pathways-to-prevention-sip-and-support-soiree-12189
END:VEVENT

END:VCALENDAR
