BEGIN:VCALENDAR
VERSION:2.0
PRODID:-//ChamberMaster//Event Calendar 2.0//EN
METHOD:PUBLISH
X-PUBLISHED-TTL:P3D
REFRESH-INTERVAL:P3D
CALSCALE:GREGORIAN
BEGIN:VEVENT
DTSTART:20250816T180000Z
DTEND:20250816T190000Z
X-MICROSOFT-CDO-ALLDAYEVENT:FALSE
SUMMARY:Peanut Provisions
DESCRIPTION:Get your hands dirty in the lab and learn how to make George Washington Carver's recipes.
X-ALT-DESC;FMTTYPE=text/html:<span style="font-size:18.6667px">Get your hands dirty in the lab and learn how to make George Washington Carver&#39\;s recipes.</span>
LOCATION:George Washington Carver National Monument 5646 Carver Rd Diamond\, MO. 64840
UID:e.2144.16699
SEQUENCE:3
DTSTAMP:20260424T043009Z
URL:https://www.neoshocc.com/events/details/peanut-provisions-08-16-2025-16699
END:VEVENT

END:VCALENDAR
