BEGIN:VCALENDAR
VERSION:2.0
PRODID:-//ChamberMaster//Event Calendar 2.0//EN
METHOD:PUBLISH
X-PUBLISHED-TTL:P3D
REFRESH-INTERVAL:P3D
CALSCALE:GREGORIAN
BEGIN:VEVENT
DTSTART:20240427T000000Z
DTEND:20240427T020000Z
X-MICROSOFT-CDO-ALLDAYEVENT:FALSE
SUMMARY:Pirates of Penzance
DESCRIPTION:Come sail the high seas with six New York Gilbert & Sullivan Players in a night of classic comedy as they perform a one-act of The Pirates of Penzance! A band of tenderhearted pirates is planning to celebrate the upcoming birthday of Frederic\, who was mistakenly apprenticed to them until his 21st birthday. Determined to rid the world of pirates\, Frederic suddenly faces a leap year snag that threatens to keep him with the pirates for the rest of his life and prevent him from a happily-ever-after with his love\, Mabel. Discover love\, laughs\, absurd adventures\, and the splendor of Victorian pirates' costumes in one of the most famous musicals in theatre history. Then\, after intermission\, the performers return to entertain the audience with selections from Gilbert & Sullivan's comic operas\, including impromptu audience requests!
X-ALT-DESC;FMTTYPE=text/html:Come sail the high seas with six New York Gilbert &amp\; Sullivan Players in a night of classic comedy as they perform a one-act of The Pirates of Penzance! A band of tenderhearted pirates is planning to celebrate the upcoming birthday of Frederic\, who was mistakenly apprenticed to them until his 21st birthday. Determined to rid the world of pirates\, Frederic suddenly faces a leap year snag that threatens to keep him with the pirates for the rest of his life and prevent him from a happily-ever-after with his love\, Mabel. Discover love\, laughs\, absurd adventures\, and the splendor of Victorian pirates&rsquo\; costumes in one of the most famous musicals in theatre history. Then\, after intermission\, the performers return to entertain the audience with selections from Gilbert &amp\; Sullivan&rsquo\;s comic operas\, including impromptu audience requests!
LOCATION:Harry M. Cornell Arts and Entertainment Complex located at 212 West 7th Street Joplin\, MO 64801
UID:e.2144.11161
SEQUENCE:3
DTSTAMP:20260425T031713Z
URL:https://www.neoshocc.com/events/details/pirates-of-penzance-11161
END:VEVENT

END:VCALENDAR
