BEGIN:VCALENDAR
VERSION:2.0
PRODID:-//ChamberMaster//Event Calendar 2.0//EN
METHOD:PUBLISH
X-PUBLISHED-TTL:P3D
REFRESH-INTERVAL:P3D
CALSCALE:GREGORIAN
BEGIN:VEVENT
DTSTART:20250529T180000Z
DTEND:20250529T200000Z
X-MICROSOFT-CDO-ALLDAYEVENT:FALSE
SUMMARY:Plant Swap
DESCRIPTION:This is a passive program. Bring a plant or seeds\, and take a plant or seeds.
X-ALT-DESC;FMTTYPE=text/html:This is a passive program. Bring a plant or seeds\, and take a plant or seeds.<br />\n&nbsp\;
LOCATION:Neosho Newton County Library 201 West Spring Street Neosho MO 64850
UID:e.2144.16513
SEQUENCE:3
DTSTAMP:20260424T104243Z
URL:https://www.neoshocc.com/events/details/plant-swap-16513
END:VEVENT

END:VCALENDAR
