BEGIN:VCALENDAR
VERSION:2.0
PRODID:-//ChamberMaster//Event Calendar 2.0//EN
METHOD:PUBLISH
X-PUBLISHED-TTL:P3D
REFRESH-INTERVAL:P3D
CALSCALE:GREGORIAN
BEGIN:VEVENT
DTSTART:20250913T150000Z
DTEND:20250913T200000Z
X-MICROSOFT-CDO-ALLDAYEVENT:FALSE
SUMMARY:Prairie Day
DESCRIPTION:Celebrating life on the Missouri prairie during the late 1800s when George Washington Carver was a child\, this event includes basket weaving\, spinning\, weaving\, storytelling\, music\, quilting\, a junior ranger station\, and more.
X-ALT-DESC;FMTTYPE=text/html:<span style="color:rgb(0\, 0\, 0)\; font-family:arial\,helvetica\,sans-serif\,serif\,emojifont\; font-size:18.6667px">Celebrating life on the Missouri prairie during the late 1800s when George Washington Carver was a child\, this event includes basket weaving\, spinning\, weaving\, storytelling\, music\, quilting\, a junior ranger station\, and more.</span>
LOCATION:George Washington Carver NM 5646 Carver Rd. Diamond MO 64840
UID:e.2144.17548
SEQUENCE:3
DTSTAMP:20260424T043131Z
URL:https://www.neoshocc.com/events/details/prairie-day-09-13-2025-17548
END:VEVENT

END:VCALENDAR
