BEGIN:VCALENDAR
VERSION:2.0
PRODID:-//ChamberMaster//Event Calendar 2.0//EN
METHOD:PUBLISH
X-PUBLISHED-TTL:P3D
REFRESH-INTERVAL:P3D
CALSCALE:GREGORIAN
BEGIN:VEVENT
DTSTART:20230911T230000Z
DTEND:20230912T000000Z
X-MICROSOFT-CDO-ALLDAYEVENT:FALSE
SUMMARY:Prayer on the Square
DESCRIPTION:Each Monday night\, we gather on the courthouse lawn (southeast corner) to pray for our nation and our community. The weekly gathering is organized by KNEO Radio of Neosho. In case of rain or cold weather\, we meet at the Civic Center (Municipal Auditorium) near the town square.
X-ALT-DESC;FMTTYPE=text/html:Each Monday night\, we gather on the courthouse lawn (southeast corner) to pray for our nation and our community. The weekly gathering is organized by KNEO Radio of Neosho. In case of rain or cold weather\, we meet at the Civic Center (Municipal Auditorium) near the town square.
LOCATION:Neosho Courthouse Lawn (in warm months) Neosho Municipal Auditorium (in cold months)
UID:e.2144.10526
SEQUENCE:3
DTSTAMP:20260425T140828Z
URL:https://www.neoshocc.com/events/details/prayer-on-the-square-09-11-2023-10526
END:VEVENT

END:VCALENDAR
