BEGIN:VCALENDAR
VERSION:2.0
PRODID:-//ChamberMaster//Event Calendar 2.0//EN
METHOD:PUBLISH
X-PUBLISHED-TTL:P3D
REFRESH-INTERVAL:P3D
CALSCALE:GREGORIAN
BEGIN:VEVENT
DTSTART:20250212T160000Z
DTEND:20250212T170000Z
X-MICROSOFT-CDO-ALLDAYEVENT:FALSE
SUMMARY:Preschool Connections: A Thing Called Snow
DESCRIPTION:For ages 3   7 accompanied by an adult\n\nProgram sponsored by Calvin Cassidy\n\nDo you remember the first time you ever saw snow? At this month's Preschool Connections\, we're reviving the magic of that first snow through a story\, song\, and craft. This month's story is "A Thing Called Snow" by Yuval Zommer\, and tells the tale of two Spring-born animals experiencing snow for the first time. You won't want to miss this one!\n\nMust pre-register by visiting https://bit.ly/PreschoolConnections225\, going to our Facebook page\, or by emailing colvin@wildcatglades.org.
X-ALT-DESC;FMTTYPE=text/html:<em><span style="color:black">For ages 3 &ndash\; 7 accompanied by an adult</span></em><br />\n<em><span style="color:black">Program sponsored by Calvin Cassidy</span></em><br />\n<span style="color:black">Do you remember the first time you ever saw snow? At this month&rsquo\;s Preschool Connections\, we&rsquo\;re reviving the magic of that first snow through a story\, song\, and craft. This month&rsquo\;s story is &ldquo\;A Thing Called Snow&rdquo\; by Yuval Zommer\, and tells the tale of two Spring-born animals experiencing snow for the first time. You won&rsquo\;t want to miss this one!</span><br />\n<strong><span style="color:black">Must pre-register by visiting</span></strong> <a href="https://bit.ly/PreschoolConnections225"><strong>https://bit.ly/PreschoolConnections225</strong></a><strong>\,</strong><strong> going to our Facebook page\, </strong><strong><span style="color:black">or by emailing </span></strong><a href="mailto:colvin@wildcatglades.org"><strong>colvin@wildcatglades.org</strong></a><strong><span style="color:black">.&nbsp\;</span></strong>
LOCATION:Wildcat Glades Education Cottage - 301 Riviera Drive\, Joplin\, MO 64804
UID:e.2144.14377
SEQUENCE:3
DTSTAMP:20260424T133149Z
URL:https://www.neoshocc.com/events/details/preschool-connections-a-thing-called-snow-02-12-2025-14377
END:VEVENT

END:VCALENDAR
