BEGIN:VCALENDAR
VERSION:2.0
PRODID:-//ChamberMaster//Event Calendar 2.0//EN
METHOD:PUBLISH
X-PUBLISHED-TTL:P3D
REFRESH-INTERVAL:P3D
CALSCALE:GREGORIAN
BEGIN:VEVENT
DTSTART:20241210T060000Z
DTEND:20241210T060000Z
X-MICROSOFT-CDO-ALLDAYEVENT:FALSE
SUMMARY:Preschool Connections: Groundhog Gets a Say
DESCRIPTION:For ages 3   7 accompanied by an adult\n\nFree to Attend Program sponsored by Calvin Cassidy\n\nHave you ever wanted to learn about groundhogs? Here at Wildcat Glades\, we say gopher it! Join Wildcat's own Miss Vicki for a wonderful story\, song\, and craft about everyone's favorite sub-terranean mammal! \n\nMust pre-register by visiting https://bit.ly/PreschoolConnections125\, going to our Facebook page\, or by emailing colvin@wildcatglades.org.
X-ALT-DESC;FMTTYPE=text/html:<em><span style="color:black">For ages 3 &ndash\; 7 accompanied by an adult</span></em><br />\n<em><span style="color:black">Free to Attend Program sponsored by Calvin Cassidy</span></em><br />\n<span style="color:black">Have you ever wanted to learn about groundhogs? Here at Wildcat Glades\, we say <em>gopher </em>it! Join Wildcat&rsquo\;s own Miss Vicki for a wonderful story\, song\, and craft about everyone&rsquo\;s favorite sub-terranean mammal! </span><br />\n<strong><span style="color:black">Must pre-register by visiting</span> </strong><a href="https://bit.ly/PreschoolConnections125"><strong>https://bit.ly/PreschoolConnections125</strong></a><strong>\, going to our Facebook page\, </strong><strong><span style="color:black">or by emailing </span></strong><a href="mailto:colvin@wildcatglades.org"><strong>colvin@wildcatglades.org</strong></a><strong><span style="color:black">. </span>&nbsp\;</strong><br />\n&nbsp\;
LOCATION:Wildcat Glades Education Cottage 301 Riviera Drive JOPLIN\, MO 64804
UID:e.2144.14176
SEQUENCE:3
DTSTAMP:20260424T161822Z
URL:https://www.neoshocc.com/events/details/preschool-connections-groundhog-gets-a-say-12-10-2024-14176
END:VEVENT

END:VCALENDAR
