BEGIN:VCALENDAR
VERSION:2.0
PRODID:-//ChamberMaster//Event Calendar 2.0//EN
METHOD:PUBLISH
X-PUBLISHED-TTL:P3D
REFRESH-INTERVAL:P3D
CALSCALE:GREGORIAN
BEGIN:VEVENT
DTSTART:20250115T160000Z
DTEND:20250115T170000Z
X-MICROSOFT-CDO-ALLDAYEVENT:FALSE
SUMMARY:Preschool Connections: Groundhog Gets a Say
DESCRIPTION:For ages 3   7 accompanied by an adult\n\nFree to Attend Program sponsored by Calvin Cassidy\n\nHave you ever wanted to learn about groundhogs? Here at Wildcat Glades\, we say gopher it! Join Wildcat's own Miss Vicki for a wondeful story\, song\, and craft about everyone's favorite sub-terranian mammal! \n\nMust pre-register by visiting https://bit.ly/PreschoolConnections125\, going to our Facebook page\, or by emailing colvin@wildcatglades.org.
X-ALT-DESC;FMTTYPE=text/html:<em><span style="color:black">For ages 3 &ndash\; 7 accompanied by an adult</span></em><br />\n<em><span style="color:black">Free to Attend Program sponsored by Calvin Cassidy</span></em><br />\n<span style="color:black">Have you ever wanted to learn about groundhogs? Here at Wildcat Glades\, we say <em>gopher </em>it! Join Wildcat&rsquo\;s own Miss Vicki for a wondeful story\, song\, and craft about everyone&rsquo\;s favorite sub-terranian mammal! </span><br />\n<strong><span style="color:black">Must pre-register by visiting</span> </strong><a href="https://bit.ly/PreschoolConnections125"><strong>https://bit.ly/PreschoolConnections125</strong></a><strong>\, going to our Facebook page\, </strong><strong><span style="color:black">or by emailing </span></strong><a href="mailto:colvin@wildcatglades.org"><strong>colvin@wildcatglades.org</strong></a><strong><span style="color:black">. </span>&nbsp\;</strong>
LOCATION:Wildcat Glades Education Cottage - 301 Riviera Drive JOPLIN\, MO 64804
UID:e.2144.14175
SEQUENCE:3
DTSTAMP:20260424T161113Z
URL:https://www.neoshocc.com/events/details/preschool-connections-groundhog-gets-a-say-14175
END:VEVENT

END:VCALENDAR
