BEGIN:VCALENDAR
VERSION:2.0
PRODID:-//ChamberMaster//Event Calendar 2.0//EN
METHOD:PUBLISH
X-PUBLISHED-TTL:P3D
REFRESH-INTERVAL:P3D
CALSCALE:GREGORIAN
BEGIN:VEVENT
DTSTART:20250611T150000Z
DTEND:20250611T160000Z
X-MICROSOFT-CDO-ALLDAYEVENT:FALSE
SUMMARY:Preschool Connections: Ssensational Snakes
DESCRIPTION:Preschool Connections: "Ssssentational Snakes!" Free to Attend\n\nWednesday\, June 11th\, 10 am to 11 am OR  Saturday\, June 14th 1pm at the Wildcat Glades Education Cottage\n\nFor ages 3   7 accompanied by an adult\n\nProgram sponsored by Calvin Cassidy\n\nSnakes\, with their slippery scales\, have appeared in myths\, jungles\, deserts\, and backyards. Today\, we're setting the record straight on these misunderstood reptiles and learning why they are more fascinating than fearsome.\n\nDiscover "Hector\, the Misunderstood Snake" as read by our very own Ms. Vicki.  \n\nTo register\, visit https://bit.ly/PKSnakes or email sara@wildcatglades.org
X-ALT-DESC;FMTTYPE=text/html:<strong><em><u><span style="color:black">Preschool Connections: &ldquo\;Ssssentational Snakes!&rdquo\; </span></u></em></strong><em><span style="color:black">Free to Attend</span></em><br />\n<em><span style="color:black">Wednesday\, June 11<sup>th</sup>\, 10 am to 11 am </span></em><strong><em><span style="color:black">OR</span></em></strong><em><span style="color:black"> &nbsp\;Saturday\, June 14<sup>th</sup> 1pm at the Wildcat Glades Education Cottage</span></em><br />\n<em><span style="color:black">For ages 3 &ndash\; 7 accompanied by an adult</span></em><br />\n<em><span style="color:black">Program sponsored by Calvin Cassidy</span></em><br />\n<span style="color:black">Snakes\, with their slippery scales\, have appeared in myths\, jungles\, deserts\, and backyards.</span><span style="color:#080809"> Today\, we&#39\;re setting the record straight on these misunderstood reptiles and learning why they are more fascinating than fearsome.</span><br />\n<span style="color:#080809">Discover &ldquo\;Hector\, the Misunderstood Snake&rdquo\; as read by our very own Ms. Vicki.&nbsp\; </span><br />\n<span style="color:#080809">To register\, visit </span><span style="color:black"><a href="https://bit.ly/PKSnakes">https://bit.ly/PKSnakes</a></span><span style="color:#080809"> or email </span><span style="color:black"><a href="mailto:sara@wildcatglades.org">sara@wildcatglades.org</a></span>
LOCATION:Wildcat Glades Education Cottage Wildcat Park Joplin MO\, 64804
UID:e.2144.16499
SEQUENCE:3
DTSTAMP:20260424T092354Z
URL:https://www.neoshocc.com/events/details/preschool-connections-ssensational-snakes-16499
END:VEVENT

END:VCALENDAR
