BEGIN:VCALENDAR
VERSION:2.0
PRODID:-//ChamberMaster//Event Calendar 2.0//EN
METHOD:PUBLISH
X-PUBLISHED-TTL:P3D
REFRESH-INTERVAL:P3D
CALSCALE:GREGORIAN
BEGIN:VEVENT
DTSTART:20241212T210000Z
DTEND:20241213T000000Z
X-MICROSOFT-CDO-ALLDAYEVENT:FALSE
SUMMARY:Prime Cut Salon's Christmas Open House
DESCRIPTION:Come shop some amazing local vendors & take a look at our newly remodeled salon!
X-ALT-DESC;FMTTYPE=text/html:Come shop some amazing local vendors &amp\; take a look at our newly remodeled salon!
LOCATION:Prime Cut Salon 1617 S Joplin Ave Joplin\, Mo.
UID:e.2144.14164
SEQUENCE:3
DTSTAMP:20260424T161226Z
URL:https://www.neoshocc.com/events/details/prime-cut-salon-s-christmas-open-house-14164
END:VEVENT

END:VCALENDAR
