BEGIN:VCALENDAR
VERSION:2.0
PRODID:-//ChamberMaster//Event Calendar 2.0//EN
METHOD:PUBLISH
X-PUBLISHED-TTL:P3D
REFRESH-INTERVAL:P3D
CALSCALE:GREGORIAN
BEGIN:VEVENT
DTSTART:20260209T210000Z
DTEND:20260209T223000Z
X-MICROSOFT-CDO-ALLDAYEVENT:FALSE
SUMMARY:QPR (Question\, Persuade\, Refer)
DESCRIPTION:The QPR mission is to reduce suicidal behaviors and save lives by providing innovative\, practical and proven suicide prevention training. The signs of crisis are all around us. We believe that quality education empowers all people\, regardless of their background\, to make a positive difference in the life of someone they know.
X-ALT-DESC;FMTTYPE=text/html:The QPR mission is to reduce suicidal behaviors and save lives by providing innovative\, practical and proven suicide prevention training. The signs of crisis are all around us. We believe that quality education empowers all people\, regardless of their background\, to make a positive difference in the life of someone they know.
LOCATION:Zoom
UID:e.2144.18935
SEQUENCE:3
DTSTAMP:20260423T210329Z
URL:https://www.neoshocc.com/events/details/qpr-question-persuade-refer-18935
END:VEVENT

END:VCALENDAR
