BEGIN:VCALENDAR
VERSION:2.0
PRODID:-//ChamberMaster//Event Calendar 2.0//EN
METHOD:PUBLISH
X-PUBLISHED-TTL:P3D
REFRESH-INTERVAL:P3D
CALSCALE:GREGORIAN
BEGIN:VEVENT
DTSTART:20251026T010000Z
DTEND:20251026T040000Z
X-MICROSOFT-CDO-ALLDAYEVENT:FALSE
SUMMARY:Quinton Scott Live on the Osage Stage
DESCRIPTION:Quinton Scott live on the Osage Stage.  Local singer/songwriter performs his originals here at Osage Spring.
X-ALT-DESC;FMTTYPE=text/html:Quinton Scott live on the Osage Stage.&nbsp\; Local singer/songwriter performs his originals here at Osage Spring.
LOCATION:200 E Spring Street Neosho\, MO 64850
UID:e.2144.18552
SEQUENCE:3
DTSTAMP:20260424T014946Z
URL:https://www.neoshocc.com/events/details/quinton-scott-live-on-the-osage-stage-18552
END:VEVENT

END:VCALENDAR
