BEGIN:VCALENDAR
VERSION:2.0
PRODID:-//ChamberMaster//Event Calendar 2.0//EN
METHOD:PUBLISH
X-PUBLISHED-TTL:P3D
REFRESH-INTERVAL:P3D
CALSCALE:GREGORIAN
BEGIN:VEVENT
DTSTART:20250928T180000Z
DTEND:20250928T190000Z
X-MICROSOFT-CDO-ALLDAYEVENT:FALSE
SUMMARY:Ranger's Choice program
DESCRIPTION:What program will we present? It's a mystery! This is a chance for park rangers to deliver their favorite programs on George Washington Carver for you.
X-ALT-DESC;FMTTYPE=text/html:What program will we present? It&rsquo\;s a mystery! This is a chance for park rangers to deliver their favorite programs on George Washington Carver for you.
LOCATION:George Washington Carver National Monument 5646 Carver Road Diamond\, MO 64840
UID:e.2144.16710
SEQUENCE:3
DTSTAMP:20260424T025637Z
URL:https://www.neoshocc.com/events/details/ranger-s-choice-program-09-28-2025-16710
END:VEVENT

END:VCALENDAR
