BEGIN:VCALENDAR
VERSION:2.0
PRODID:-//ChamberMaster//Event Calendar 2.0//EN
METHOD:PUBLISH
X-PUBLISHED-TTL:P3D
REFRESH-INTERVAL:P3D
CALSCALE:GREGORIAN
BEGIN:VEVENT
DTSTART:20250920T220000Z
DTEND:20250921T030000Z
X-MICROSOFT-CDO-ALLDAYEVENT:FALSE
SUMMARY:Red Carpet Relay
DESCRIPTION:Relay For Life of Newton County: Red Carpet Relay   A Tribute to the Stars\n\nJoin us for a night of hope\, remembrance\, and celebration as Newton County rolls out the red carpet for the 2025 Relay For Life! This year's theme\, "A Tribute to the Stars\," honors the heroes who have faced cancer with courage and shines a spotlight on the community fighting to end it.\n\n  Date: Saturday\, September 20\, 2025\n\n  Time: 5:00 PM   10:00 PM\n\n  Location: Downtown Square\, Neosho\, MO\n\nHelp us celebrate 40 years of impact with an evening full of walking\, entertainment\, and connection. Whether you're remembering a loved one\, honoring a survivor\, or taking a stand for the future\, your presence matters.\n\nQuestions? Contact:\n\n\n	\n	Donna Hood at 417-312-1027\n	\n	\n	Dana Eads at 417-312-1640\n	\n\n\n  Learn more or register at: www.relayforlife.org/newtoncountymo\n\nLet's walk the red carpet together for a cure.
X-ALT-DESC;FMTTYPE=text/html:<p data-end="221" data-start="140"><strong data-end="221" data-start="140">&#127916\; Relay For Life of Newton County: Red Carpet Relay &ndash\; A Tribute to the Stars</strong></p>\n\n<p data-end="511" data-start="223">Join us for a night of hope\, remembrance\, and celebration as Newton County rolls out the red carpet for the 2025 Relay For Life! This year&rsquo\;s theme\, <em data-end="398" data-start="371">&quot\;A Tribute to the Stars\,&quot\;</em> honors the heroes who have faced cancer with courage and shines a spotlight on the community fighting to end it.</p>\n\n<p data-end="635" data-start="513">&#128467\; <strong data-end="525" data-start="516">Date:</strong> Saturday\, September 20\, 2025<br data-end="557" data-start="554" />\n&#128340\; <strong data-end="569" data-start="560">Time:</strong> 5:00 PM &ndash\; 10:00 PM<br data-end="591" data-start="588" />\n&#128205\; <strong data-end="607" data-start="594">Location:</strong> Downtown Square\, Neosho\, MO</p>\n\n<p data-end="859" data-start="637">Help us celebrate <strong data-end="677" data-start="655">40 years of impact</strong> with an evening full of walking\, entertainment\, and connection. Whether you&rsquo\;re remembering a loved one\, honoring a survivor\, or taking a stand for the future\, your presence matters.</p>\n\n<p data-end="880" data-start="861">Questions? Contact:</p>\n\n<ul data-end="939" data-start="881">\n	<li data-end="911" data-start="881">\n	<p data-end="911" data-start="883">Donna Hood at 417-312-1027</p>\n	</li>\n	<li data-end="939" data-start="912">\n	<p data-end="939" data-start="914">Dana Eads at 417-312-1640</p>\n	</li>\n</ul>\n\n<p data-end="1052" data-start="941">&#128242\; Learn more or register at: <a class="cursor-pointer" data-end="1052" data-start="971" rel="noopener" target="_new">www.relayforlife.org/newtoncountymo</a></p>\n\n<p data-end="1104" data-start="1054">Let&rsquo\;s walk the red carpet together&mdash\;for a cure. &#128156\;&#10024\;</p>\n
LOCATION:Downtown Square in Neosho
UID:e.2144.16636
SEQUENCE:3
DTSTAMP:20260424T025628Z
URL:https://www.neoshocc.com/events/details/red-carpet-relay-16636
END:VEVENT

END:VCALENDAR
