BEGIN:VCALENDAR
VERSION:2.0
PRODID:-//ChamberMaster//Event Calendar 2.0//EN
METHOD:PUBLISH
X-PUBLISHED-TTL:P3D
REFRESH-INTERVAL:P3D
CALSCALE:GREGORIAN
BEGIN:VEVENT
DTSTART:20260225T193000Z
DTEND:20260225T223000Z
X-MICROSOFT-CDO-ALLDAYEVENT:FALSE
SUMMARY:Responsible Retailer Training
DESCRIPTION:Selling alcohol? Protect Your Store. Protect Our Youth. Attend Community Partnership of the Ozark's Responsible Retailer Training - A quick\, free resource to help keep alcohol sales legal\, safe\, and stress-free. This training provides free\, up-to-date education on: Missouri alcohol laws\; Preventing illegal sales to minors\; State Compliance Checks & what to expect\; and Best practices for safe\, legal alcohol transactions. Who should attend? Retailers licensed to sell alcohol including owners\, managers\, cashiers\, and sales associates.
X-ALT-DESC;FMTTYPE=text/html:Selling alcohol? Protect Your Store. Protect Our Youth. Attend Community Partnership of the Ozark&rsquo\;s Responsible Retailer Training - A quick\, free resource to help keep alcohol sales legal\, safe\, and stress-free. This training provides free\, up-to-date education on: Missouri alcohol laws\; Preventing illegal sales to minors\; State Compliance Checks &amp\; what to expect\; and Best practices for safe\, legal alcohol transactions. Who should attend? Retailers licensed to sell alcohol&mdash\;including owners\, managers\, cashiers\, and sales associates.
LOCATION:Eastside Social 113 S. Washington St. Neosho\, MO 64850
UID:e.2144.18933
SEQUENCE:3
DTSTAMP:20260423T193125Z
URL:https://www.neoshocc.com/events/details/responsible-retailer-training-02-25-2026-18933
END:VEVENT

END:VCALENDAR
