BEGIN:VCALENDAR
VERSION:2.0
PRODID:-//ChamberMaster//Event Calendar 2.0//EN
METHOD:PUBLISH
X-PUBLISHED-TTL:P3D
REFRESH-INTERVAL:P3D
CALSCALE:GREGORIAN
BEGIN:VEVENT
DTSTART:20240812T233000Z
DTEND:20240813T013000Z
X-MICROSOFT-CDO-ALLDAYEVENT:FALSE
SUMMARY:Restoration Life Center Banquet
DESCRIPTION:Join Restoration Life Center as they celebrate with a night of food & fellowship.  You will have the opportunity to hear the testimonies of the individuals you have partnered with in our community.
X-ALT-DESC;FMTTYPE=text/html:Join Restoration Life Center as they celebrate with a night of food &amp\; fellowship.&nbsp\; You will have the opportunity to hear the testimonies of the individuals you have partnered with in our community.
LOCATION:Calvary Baptist Church 2650 Oak Ridge Extension Neosho\, MO 64850
UID:e.2144.12227
SEQUENCE:3
DTSTAMP:20260424T215721Z
URL:https://www.neoshocc.com/events/details/restoration-life-center-banquet-12227
END:VEVENT

END:VCALENDAR
