BEGIN:VCALENDAR
VERSION:2.0
PRODID:-//ChamberMaster//Event Calendar 2.0//EN
METHOD:PUBLISH
X-PUBLISHED-TTL:P3D
REFRESH-INTERVAL:P3D
CALSCALE:GREGORIAN
BEGIN:VEVENT
DTSTART:20221221T220000Z
DTEND:20221221T230000Z
X-MICROSOFT-CDO-ALLDAYEVENT:FALSE
SUMMARY:Retirement Celebration - Dave Padgett K & S Wire
DESCRIPTION:Please join K & S Wire for a celebration of Dave Padgett\, President of K & S Wire on his Retirement
X-ALT-DESC;FMTTYPE=text/html:Please join K &amp\; S Wire for a celebration of Dave Padgett\, President of K &amp\; S Wire on his Retirement&nbsp\;
LOCATION:K & S Wire 300 Nelson Ave Neosho\, MO
UID:e.2144.8965
SEQUENCE:3
DTSTAMP:20260426T035243Z
URL:https://www.neoshocc.com/events/details/retirement-celebration-dave-padgett-k-s-wire-8965
END:VEVENT

END:VCALENDAR
