BEGIN:VCALENDAR
VERSION:2.0
PRODID:-//ChamberMaster//Event Calendar 2.0//EN
METHOD:PUBLISH
X-PUBLISHED-TTL:P3D
REFRESH-INTERVAL:P3D
CALSCALE:GREGORIAN
BEGIN:VEVENT
DTSTART:20230616T180000Z
DTEND:20230616T200000Z
X-MICROSOFT-CDO-ALLDAYEVENT:FALSE
SUMMARY:Retirement Celebration - Larry Swift
DESCRIPTION:Join us for a Retirement Celebration for Larry Swift
X-ALT-DESC;FMTTYPE=text/html:Join us for a Retirement Celebration for Larry Swift
LOCATION:Neosho Newton County Library 201 W. Spring St. Neosho\, MO
UID:e.2144.10477
SEQUENCE:3
DTSTAMP:20260425T184648Z
URL:https://www.neoshocc.com/events/details/retirement-celebration-larry-swift-10477
END:VEVENT

END:VCALENDAR
