BEGIN:VCALENDAR
VERSION:2.0
PRODID:-//ChamberMaster//Event Calendar 2.0//EN
METHOD:PUBLISH
X-PUBLISHED-TTL:P3D
REFRESH-INTERVAL:P3D
CALSCALE:GREGORIAN
BEGIN:VEVENT
DTSTART:20250616T150000Z
DTEND:20250616T160000Z
X-MICROSOFT-CDO-ALLDAYEVENT:FALSE
SUMMARY:Ribbon Cutting - Faithful Friends Rescued Treasures Thrift Shop
DESCRIPTION:Please join us to celebrate the Grand Opening of the Faithful Friends Rescued Treasures Thrift Shop!
X-ALT-DESC;FMTTYPE=text/html:Please join us to celebrate the Grand Opening of the Faithful Friends Rescued Treasures Thrift Shop!&nbsp\;
LOCATION:
UID:e.2144.16686
SEQUENCE:3
DTSTAMP:20260424T074318Z
URL:https://www.neoshocc.com/events/details/ribbon-cutting-faithful-friends-rescued-treasures-thrift-shop-16686
END:VEVENT

END:VCALENDAR
