BEGIN:VCALENDAR
VERSION:2.0
PRODID:-//ChamberMaster//Event Calendar 2.0//EN
METHOD:PUBLISH
X-PUBLISHED-TTL:P3D
REFRESH-INTERVAL:P3D
CALSCALE:GREGORIAN
BEGIN:VEVENT
DTSTART:20250716T150000Z
DTEND:20250716T160000Z
X-MICROSOFT-CDO-ALLDAYEVENT:FALSE
SUMMARY:Ribbon Cutting Grand Opening - Faithful Friends Rescued Treasures Thrift Shop
DESCRIPTION:Join us for a Ribbon Cutting Grand Opening for Faithful Friends Rescued Treasures Thrift Shop at their new location!
X-ALT-DESC;FMTTYPE=text/html:Join us for a Ribbon Cutting Grand Opening for Faithful Friends Rescued Treasures Thrift Shop at their new location!<br />\n&nbsp\;
LOCATION:116 N Jefferson St Neosho\, Mo. 64850
UID:e.2144.16692
SEQUENCE:3
DTSTAMP:20260424T074315Z
URL:https://www.neoshocc.com/events/details/ribbon-cutting-grand-opening-faithful-friends-rescued-treasures-thrift-shop-16692
END:VEVENT

END:VCALENDAR
