BEGIN:VCALENDAR
VERSION:2.0
PRODID:-//ChamberMaster//Event Calendar 2.0//EN
METHOD:PUBLISH
X-PUBLISHED-TTL:P3D
REFRESH-INTERVAL:P3D
CALSCALE:GREGORIAN
BEGIN:VEVENT
DTSTART:20250717T160000Z
DTEND:20250717T170000Z
X-MICROSOFT-CDO-ALLDAYEVENT:FALSE
SUMMARY:Ribbon Cutting/New Member - USA Powersports
DESCRIPTION:Join us for a Ribbon Cutting/New Member for USA Powersports
X-ALT-DESC;FMTTYPE=text/html:Join us for a Ribbon Cutting/New Member for USA Powersports
LOCATION:4405 Doniphan Dr Neosho\, Mo 64850
UID:e.2144.16693
SEQUENCE:3
DTSTAMP:20260424T060756Z
URL:https://www.neoshocc.com/events/details/ribbon-cutting-new-member-usa-powersports-16693
END:VEVENT

END:VCALENDAR
