BEGIN:VCALENDAR
VERSION:2.0
PRODID:-//ChamberMaster//Event Calendar 2.0//EN
METHOD:PUBLISH
X-PUBLISHED-TTL:P3D
REFRESH-INTERVAL:P3D
CALSCALE:GREGORIAN
BEGIN:VEVENT
DTSTART:20240828T160000Z
DTEND:20240828T163000Z
X-MICROSOFT-CDO-ALLDAYEVENT:FALSE
SUMMARY:Ribbon Cutting @ SMB Oronogo location
DESCRIPTION:Help us celebrate Southwest Missouri Bank's newest branch in Oronogo!
X-ALT-DESC;FMTTYPE=text/html:<span style="color: rgb(5\, 5\, 5)\; font-family: &quot\;Segoe UI Historic&quot\;\, &quot\;Segoe UI&quot\;\, Helvetica\, Arial\, sans-serif\; font-size: 15px\; background-color: rgb(255\, 255\, 255)\;">Help us celebrate Southwest Missouri Bank&#39\;s newest branch in Oronogo!</span>
LOCATION:96 & D Highway in Oronogo 855 N. Highway D.
UID:e.2144.12239
SEQUENCE:3
DTSTAMP:20260424T231437Z
URL:https://www.neoshocc.com/events/details/ribbon-cutting-smb-oronogo-location-12239
END:VEVENT

END:VCALENDAR
