BEGIN:VCALENDAR
VERSION:2.0
PRODID:-//ChamberMaster//Event Calendar 2.0//EN
METHOD:PUBLISH
X-PUBLISHED-TTL:P3D
REFRESH-INTERVAL:P3D
CALSCALE:GREGORIAN
BEGIN:VEVENT
DTSTART:20230209T233000Z
DTEND:20230210T003000Z
X-MICROSOFT-CDO-ALLDAYEVENT:FALSE
SUMMARY:Rise 365 Presents: Zumba with Beth McCully
DESCRIPTION:Join Rise 365 for an aerobic fitness program featuring movements inspired by various styles of dance and performed by several different genres of music! \n\n\n\nCome have some fun while meeting your fitness goals and creating new friendships along the way! \n\n\n\nMonday 5:30 - 6:30 PM\n\nTuesday 6:00 - 7:00 PM\n\nThursday 5:30 - 6:30 PM
X-ALT-DESC;FMTTYPE=text/html:Join Rise 365 for an aerobic fitness program featuring movements inspired by various styles of dance and performed by several different genres of music!&nbsp\;<br />\n<br />\nCome have some fun while meeting your fitness goals and creating new friendships along the way!&nbsp\;<br />\n<br />\nMonday 5:30 - 6:30 PM<br />\nTuesday 6:00 - 7:00 PM<br />\nThursday 5:30 - 6:30 PM
LOCATION:Rise 365 - 24 Hour Gym
UID:e.2144.6092
SEQUENCE:3
DTSTAMP:20260426T004146Z
URL:https://www.neoshocc.com/events/details/rise-365-presents-zumba-with-beth-mccully-02-09-2023-6092
END:VEVENT

END:VCALENDAR
