BEGIN:VCALENDAR
VERSION:2.0
PRODID:-//ChamberMaster//Event Calendar 2.0//EN
METHOD:PUBLISH
X-PUBLISHED-TTL:P3D
REFRESH-INTERVAL:P3D
CALSCALE:GREGORIAN
BEGIN:VEVENT
DTSTART:20251119T000000Z
DTEND:20251119T013000Z
X-MICROSOFT-CDO-ALLDAYEVENT:FALSE
SUMMARY:RISE & Thrive Info Night
DESCRIPTION:
X-ALT-DESC;FMTTYPE=text/html:
LOCATION:Neosho Public Library\, 201 W. Spring St.\, Neosho\, MO
UID:e.2144.18550
SEQUENCE:3
DTSTAMP:20260424T002634Z
URL:https://www.neoshocc.com/events/details/rise-thrive-info-night-18550
END:VEVENT

END:VCALENDAR
