BEGIN:VCALENDAR
VERSION:2.0
PRODID:-//ChamberMaster//Event Calendar 2.0//EN
METHOD:PUBLISH
X-PUBLISHED-TTL:P3D
REFRESH-INTERVAL:P3D
CALSCALE:GREGORIAN
BEGIN:VEVENT
DTSTART:20230814T233000Z
DTEND:20230815T013000Z
X-MICROSOFT-CDO-ALLDAYEVENT:FALSE
SUMMARY:RLC Annual Celebration & Fundraiser
DESCRIPTION:Restoration Life Center Annual Celebration & Fundraiser
X-ALT-DESC;FMTTYPE=text/html:Restoration Life Center Annual Celebration &amp\; Fundraiser
LOCATION:Neosho Auditorium 203 E Main St Neosho
UID:e.2144.10487
SEQUENCE:3
DTSTAMP:20260425T154234Z
URL:https://www.neoshocc.com/events/details/rlc-annual-celebration-fundraiser-10487
END:VEVENT

END:VCALENDAR
