BEGIN:VCALENDAR
VERSION:2.0
PRODID:-//ChamberMaster//Event Calendar 2.0//EN
METHOD:PUBLISH
X-PUBLISHED-TTL:P3D
REFRESH-INTERVAL:P3D
CALSCALE:GREGORIAN
BEGIN:VEVENT
DTSTART:20250315T140000Z
DTEND:20250315T160000Z
X-MICROSOFT-CDO-ALLDAYEVENT:FALSE
SUMMARY:RMHC's St. Patrick's Day 5K
DESCRIPTION:Are you ready to run or walk for a cause on St. Patrick's Day Weekend? Put on your lucky shoes and join Ronald McDonald House Charities of the Four States for a FREE community event presented by TAMKO Building Products\, LLC. This event isn't just about running   it's about community involvement and coming together to make a difference. Whether you're a seasoned runner\, a casual jogger\, or just looking for a fun way to spend your weekend\, this 5K is for you! Bring your family\, rally your co-workers\, and show your support for families with seriously ill children. In lieu of a registration fee\, we ask that participants make a donation to support our mission. Every dollar donated will support the work done at Ronald McDonald House of the Four States and Ronald McDonald Family Room at Mercy Hospital.
X-ALT-DESC;FMTTYPE=text/html:Are you ready to run or walk for a cause on St. Patrick&rsquo\;s Day Weekend? Put on your lucky shoes and join Ronald McDonald House Charities of the Four States for a FREE community event presented by TAMKO Building Products\, LLC. This event isn&rsquo\;t just about running &ndash\; it&rsquo\;s about community involvement and coming together to make a difference. Whether you&rsquo\;re a seasoned runner\, a casual jogger\, or just looking for a fun way to spend your weekend\, this 5K is for you! Bring your family\, rally your co-workers\, and show your support for families with seriously ill children. In lieu of a registration fee\, we ask that participants make a donation to support our mission. Every dollar donated will support the work done at Ronald McDonald House of the Four States and Ronald McDonald Family Room at Mercy Hospital.
LOCATION:Downtown Joplin\, 3rd and Main St.
UID:e.2144.14906
SEQUENCE:3
DTSTAMP:20260424T115626Z
URL:https://www.neoshocc.com/events/details/rmhc-s-st-patrick-s-day-5k-14906
END:VEVENT

END:VCALENDAR
