BEGIN:VCALENDAR
VERSION:2.0
PRODID:-//ChamberMaster//Event Calendar 2.0//EN
METHOD:PUBLISH
X-PUBLISHED-TTL:P3D
REFRESH-INTERVAL:P3D
CALSCALE:GREGORIAN
BEGIN:VEVENT
DTSTART:20250626T180000Z
DTEND:20250626T190000Z
X-MICROSOFT-CDO-ALLDAYEVENT:FALSE
SUMMARY:Rock & Brews Restaurant & Concert Bar Ribbon Cutting
DESCRIPTION:11\n\n\n  Rock & Brews Restaurant & Concert Bar Ribbon Cutting + Free Concert\n\n  Date: Thursday\, June 26\, 2025\n\n  Time: 1:00 PM (Ribbon Cutting)\n\n  Location: Inside Indigo Sky Casino & Resort\, Wyandotte\, OK\n\nEvent Bio:\n\nGet ready to rock! The Rock & Brews Restaurant & Concert Bar is debuting its grand opening with a ribbon cutting hosted by Gene Simmons of KISS fame. The celebration kicks off at 1 PM\, followed by a FREE live concert by the Gene Simmons Band at 8 PM marking the perfect pairing of great food\, brews\, and rock-n-roll.
X-ALT-DESC;FMTTYPE=text/html:<p data-end="320" data-start="226"><span data-state="closed"><span class="ms-1 inline-flex max-w-full items-center relative top-[-0.094rem] animate-[show_150ms_ease-in]"><a alt="https://neoshocc.com/events/details/eastern-shawnee-government-building-rock-brews-restaurant-ribbon-cuttings-16646?utm_source=chatgpt.com" class="flex h-4.5 overflow-hidden rounded-xl px-2 text-[0.5625em] font-medium text-token-text-secondary! bg-[#F4F4F4]! dark:bg-[#303030]! transition-colors duration-150 ease-in-out" href="https://neoshocc.com/events/details/eastern-shawnee-government-building-rock-brews-restaurant-ribbon-cuttings-16646?utm_source=chatgpt.com" rel="noopener" target="_blank"><span class="relative start-0 bottom-0 flex h-full w-full items-center">11</span></a></span></span></p>\n\n<hr data-end="325" data-start="322" />\n<h3 data-end="401" data-start="327">&#127928\; Rock &amp\; Brews Restaurant &amp\; Concert Bar Ribbon Cutting + Free Concert</h3>\n\n<p data-end="548" data-start="403"><strong data-end="415" data-start="403">&#128197\; Date:</strong> Thursday\, June 26\, 2025<br data-end="442" data-start="439" />\n<strong data-end="453" data-start="442">&#9200\; Time:</strong> 1:00 PM (Ribbon Cutting)<br data-end="481" data-start="478" />\n<strong data-end="497" data-start="481">&#128205\; Location:</strong> Inside Indigo Sky Casino &amp\; Resort\, Wyandotte\, OK</p>\n\n<p data-end="644" data-start="550"><strong data-end="564" data-start="550">Event Bio:</strong><br data-end="567" data-start="564" />\n<span class="relative -mx-px my-[-0.2rem] rounded px-px py-[0.2rem] transition-colors duration-100 ease-in-out">Get ready to rock! The <strong data-end="39" data-start="23">Rock &amp\; Brews</strong> Restaurant &amp\; Concert Bar is debuting its grand opening with a ribbon cutting hosted by Gene Simmons of KISS fame. The celebration kicks off at 1 PM\, followed by a <strong data-end="224" data-start="203">FREE live concert</strong> by the Gene Simmons Band at 8 PM&mdash\;marking the perfect pairing of great food\, brews\, and rock-n-roll.</span></p>\n
LOCATION:Rock & Brews Ribbon Cutting Inside Indigo Sky Casino & Resort\, Wyandotte\, OK
UID:e.2144.16683
SEQUENCE:3
DTSTAMP:20260424T092515Z
URL:https://www.neoshocc.com/events/details/rock-brews-restaurant-concert-bar-ribbon-cutting-16683
END:VEVENT

END:VCALENDAR
