BEGIN:VCALENDAR
VERSION:2.0
PRODID:-//ChamberMaster//Event Calendar 2.0//EN
METHOD:PUBLISH
X-PUBLISHED-TTL:P3D
REFRESH-INTERVAL:P3D
CALSCALE:GREGORIAN
BEGIN:VEVENT
DTSTART:20241109T220000Z
DTEND:20241110T010000Z
X-MICROSOFT-CDO-ALLDAYEVENT:FALSE
SUMMARY:Ronald McDonald House Charities Tree Lighting Ceremony
DESCRIPTION:Kick off our holiday fundraising campaign on November 9th as we light our dazzling\, 22-foot Christmas tree. Our Home will be glowing inside and out! An Open House will be held from 4:00 - 7:00 p.m.\, with the Lighting of the Tree at 5:30 p.m. Join us at Ronald McDonald House and enjoy: Photos with Santa Storytime with Mrs. Claus Live entertainment from local performing groups Children's crafts and activities Hot cocoa and cookies Signature drinks Find more details about the event at https://www.facebook.com/events/873359948078762/ or give a Gift of Love at https://rmhjoplin.org/rmhlights/.
X-ALT-DESC;FMTTYPE=text/html:Kick off our holiday fundraising campaign on November 9th as we light our dazzling\, 22-foot Christmas tree. Our Home will be glowing inside and out! An Open House will be held from 4:00 - 7:00 p.m.\, with the Lighting of the Tree at 5:30 p.m. Join us at Ronald McDonald House and enjoy: Photos with Santa Storytime with Mrs. Claus Live entertainment from local performing groups Children&rsquo\;s crafts and activities Hot cocoa and cookies Signature drinks Find more details about the event at https://www.facebook.com/events/873359948078762/ or give a Gift of Love at https://rmhjoplin.org/rmhlights/.
LOCATION:Ronald McDonald House of the Four States 3402 S. Jackson Ave. Joplin\, MO 64804
UID:e.2144.13730
SEQUENCE:3
DTSTAMP:20260424T173655Z
URL:https://www.neoshocc.com/events/details/ronald-mcdonald-house-charities-tree-lighting-ceremony-13730
END:VEVENT

END:VCALENDAR
