BEGIN:VCALENDAR
VERSION:2.0
PRODID:-//ChamberMaster//Event Calendar 2.0//EN
METHOD:PUBLISH
X-PUBLISHED-TTL:P3D
REFRESH-INTERVAL:P3D
CALSCALE:GREGORIAN
BEGIN:VEVENT
DTSTART:20240928T230000Z
DTEND:20240929T020000Z
X-MICROSOFT-CDO-ALLDAYEVENT:FALSE
SUMMARY:Rooted- Family Style- Farm to Table
DESCRIPTION:Family Style Farm to Table
X-ALT-DESC;FMTTYPE=text/html:Family Style Farm to Table&nbsp\;
LOCATION:Falcon Lake Farm 8250 Irene Lane Neosho\, Missouri 64850
UID:e.2144.13069
SEQUENCE:3
DTSTAMP:20260424T215257Z
URL:https://www.neoshocc.com/events/details/rooted-family-style-farm-to-table-13069
END:VEVENT

END:VCALENDAR
