BEGIN:VCALENDAR
VERSION:2.0
PRODID:-//ChamberMaster//Event Calendar 2.0//EN
METHOD:PUBLISH
X-PUBLISHED-TTL:P3D
REFRESH-INTERVAL:P3D
CALSCALE:GREGORIAN
BEGIN:VEVENT
DTSTART:20250210T190000Z
DTEND:20250308T210000Z
X-MICROSOFT-CDO-ALLDAYEVENT:FALSE
SUMMARY:Rotary Club of Neosho Presents Dazzling Deceptions with illusionist Brian Ledbetter - Benefits Big Brothers Big Sisters of Jasper/Newton County
DESCRIPTION:It's that time again!  The Rotary Club of Neosho proudly introduces Illusionist Brian Ledbetter live on stage!  Dazzling Deceptions will be on March 8th from 2:00 pm to 3:30 pm at the Municipal Auditorium (Formerly the Civic Center).\n\n\n\nBrian Ledbetter is a master magician and illusionist with extensive work\, including appearances in over 40 countries. He first gained international recognition at only 16 years old when the Society of American Magicians named him "Star of Tomorrow." Since then\, he's won awards throughout many tomorrows\, achieved international renown\, and dazzled the masses. Brian regularly appears (and disappears) at casinos\, colleges\, cruise ships\, corporate events\, theme parks\, and theatres worldwide. In 2023\, Brian spent 10 months headlining the "Escape Reality" Magic and Dinner Show in Branson\, Missouri. His show was well received with critical acclaim and voted Best of Branson's "Best Magic Show."\n\n\n\nDID YOU KNOW: In our county in 2024\, 97.6% of our kids reported: "They did not have an adult in their life to turn to when things feel overwhelming."  Sadly\, that number is up from 85.4% in 2022.  Big Brothers Big Sisters wants to change that.  That is why the Rotary Club of Neosho has partnered with them and will give proceeds from this event to help support our kids in the community.  \n\n\n\nYou can get tickets online at Dazzling Deceptions $15.00 each or buy at the door.\n\n\n\nPlease mark your calendars\, join us to have fun\, and support our kids!  See you there.
X-ALT-DESC;FMTTYPE=text/html:<span style="font-family:arial\,helvetica\,sans-serif\; font-size:14px">It&#39\;s that time again!&nbsp\; The&nbsp\;</span><a href="https://neoshorotary.org/" style="font-family: arial\, helvetica\, sans-serif\; font-size: 14px\;">Rotary Club of Neosho</a><span style="font-family:arial\,helvetica\,sans-serif\; font-size:14px">&nbsp\;proudly introduces Illusionist Brian Ledbetter live on stage!&nbsp\; Dazzling Deceptions will be on March 8th from 2:00 pm to 3:30 pm at the Municipal Auditorium (Formerly the Civic Center).</span><br />\n<br />\n<span style="color:rgb(0\, 0\, 0)\; font-family:arial\,helvetica\,sans-serif\; font-size:14px"><a href="https://www.ledbettermagic.com/">Brian Ledbetter</a>&nbsp\;is a master magician and illusionist with extensive work\, including appearances in over 40 countries. He first gained international recognition at only 16 years old when the Society of American Magicians named him &ldquo\;Star of Tomorrow.&rdquo\; Since then\, he&rsquo\;s won awards throughout many tomorrows\, achieved international renown\, and dazzled the masses. Brian regularly appears (and disappears) at casinos\, colleges\, cruise ships\, corporate events\, theme parks\, and theatres worldwide. In 2023\, Brian spent 10 months headlining the &ldquo\;Escape Reality&rdquo\; Magic and Dinner Show in Branson\, Missouri. His show was well received with critical acclaim and voted Best of Branson&rsquo\;s &ldquo\;Best Magic Show.&rdquo\;</span><br />\n<br />\n<strong>DID YOU KNOW: In our county in 2024\, 97.6% of our kids reported: &quot\;They did not have an adult in their life to turn to when things feel overwhelming.&quot\;&nbsp\; Sadly\, that number is up from 85.4% in 2022.&nbsp\;&nbsp\;<a href="https://joplinbigbro.org/">Big Brothers Big Sisters</a>&nbsp\;wants to change that.&nbsp\; That is why the Rotary Club of Neosho has partnered with them and will give proceeds from this event to help support our kids in the community.&nbsp\;&nbsp\;</strong><br />\n<br />\n<span style="font-family:arial\,helvetica\,sans-serif\; font-size:14px">You can get tickets online at&nbsp\;</span><a href="https://bjnc.betterworld.org/events/dazzling-deceptions-illusionist">Dazzling Deceptions</a><span style="font-family:arial\,helvetica\,sans-serif\; font-size:14px">&nbsp\;$15.00 each or buy at the door.</span><br />\n<br />\n<span style="font-family:arial\,helvetica\,sans-serif\; font-size:16px"><strong>Please mark your calendars\, join us to have fun\, and support our kids!&nbsp\; See you there.</strong></span>
LOCATION:Municipal Auditorium (Formerly the Civic Center).
UID:e.2144.14942
SEQUENCE:3
DTSTAMP:20260424T121210Z
URL:https://www.neoshocc.com/events/details/rotary-club-of-neosho-presents-dazzling-deceptions-with-illusionist-brian-ledbetter-benefits-big-brothers-big-sisters-of-jasper-newton-county-14942
END:VEVENT

END:VCALENDAR
