BEGIN:VCALENDAR
VERSION:2.0
PRODID:-//ChamberMaster//Event Calendar 2.0//EN
METHOD:PUBLISH
X-PUBLISHED-TTL:P3D
REFRESH-INTERVAL:P3D
CALSCALE:GREGORIAN
BEGIN:VEVENT
DTSTART:20230415T190000Z
DTEND:20230415T210000Z
X-MICROSOFT-CDO-ALLDAYEVENT:FALSE
SUMMARY:Roughrider Arena presents AYRA Youth Rodeo
DESCRIPTION:See western style come to life! Crowder College Roughrider Arena presents AYRA Youth Rodeo April 15 at 2pm. Perfect family entertainment with concessions available.\n\n\n\n608 Field Ave.\, Neosho\, MO 64850\n\nMore details: 417.455.5720
X-ALT-DESC;FMTTYPE=text/html:See western style come to life! Crowder College&nbsp\;Roughrider Arena presents AYRA Youth Rodeo April 15 at 2pm. Perfect family entertainment with concessions available.<br />\n<br />\n608 Field Ave.\, Neosho\, MO 64850<br />\nMore details: 417.455.5720
LOCATION:608 Field Ave.\, Neosho\, MO 64850
UID:e.2144.9398
SEQUENCE:3
DTSTAMP:20260425T214655Z
URL:https://www.neoshocc.com/events/details/roughrider-arena-presents-ayra-youth-rodeo-9398
END:VEVENT

END:VCALENDAR
